BEGIN:VCALENDAR
VERSION:2.0
PRODID:-//Gente San Luis - ECPv6.15.20//NONSGML v1.0//EN
CALSCALE:GREGORIAN
METHOD:PUBLISH
X-ORIGINAL-URL:https://gentesanluis.com
X-WR-CALDESC:Eventos para Gente San Luis
REFRESH-INTERVAL;VALUE=DURATION:PT1H
X-Robots-Tag:noindex
X-PUBLISHED-TTL:PT1H
BEGIN:VTIMEZONE
TZID:America/Mexico_City
BEGIN:STANDARD
TZOFFSETFROM:-0600
TZOFFSETTO:-0600
TZNAME:CST
DTSTART:20230101T000000
END:STANDARD
END:VTIMEZONE
BEGIN:VEVENT
DTSTART;TZID=America/Mexico_City:20240809T233000
DTEND;TZID=America/Mexico_City:20240901T233000
DTSTAMP:20260421T102255
CREATED:20240529T073145Z
LAST-MODIFIED:20240529T073145Z
UID:1392-1723246200-1725233400@gentesanluis.com
SUMMARY:Palenque FENAPO 2024
DESCRIPTION:Artistas y precios del Palenque FENAPO 2024\nEl Palenque de FENAPO 2024 inicia este 9 de Agosto y finaliza el 1o de Septiembre del 2024 \n09 de Agosto – PESADO en Palenque FENAPO 2024\n10 de Agosto – HAASH en Palenque FENAPO 2024\n11 de Agosto – MARCO FLORES en Palenque FENAPO 2024\n14 de Agosto – BRINCOS DIERAS \, Kevin y Tito en Palenque FENAPO 2024\n15 de Agosto – LA FIRMA Y LA CASETERA enPalenque  FENAPO 2024\n16 de Agosto – MARÍA JOSÉ en Palenque FENAPO 2024\n17 de Agosto – BANDA MS en Palenque FENAPO 2024\n18 de Agosto – PALOMAZO NORTEÑO en Palenque FENAPO 2024\n21 de Agosto – CAROLINA ROSS en Palenque FENAPO 2024\n22 de Agosto – MARCA REGISTRADA en Palenque FENAPO 2024\n23 y 24 de Agosto – ALEJANDRO Y ALEX FERNANDEZ en Palenque FENAPO 2024\n25 de Agosto – GRUPO DUELO Palenque FENAPO 2024\n28 de Agosto – LOS INVASORES DE NUEVO LEÓN en Palenque FENAPO 2024\n29 de Agosto – CONJUNTO PRIMAVERA en Palenque FENAPO 2024\n30 de Agosto – MATUTE en Palenque FENAPO 2024\n31 de Agosto y 1 de SEPTIEMBRE – JULIÓN ÁLVAREZ en Palenque FENAPO 2024\n1 de SEPTIEMBRE – BELY Y BETO en Palenque FENAPO 2024 \n  \nPRECIOS Palenque FENAPO 2024\ncostos palenque fenapo 2024
URL:https://gentesanluis.com/event/palenque-fenapo-2024/
LOCATION:Palenque FENAPO
CATEGORIES:FENAPO 2024
ATTACH;FMTTYPE=image/jpeg:https://gentesanluis.com/wp-content/uploads/2024/05/palenque-fenapo-2024.jpg
END:VEVENT
BEGIN:VEVENT
DTSTART;TZID=America/Mexico_City:20240816T200000
DTEND;TZID=America/Mexico_City:20240830T230000
DTSTAMP:20260421T102255
CREATED:20240724T031048Z
LAST-MODIFIED:20240724T031048Z
UID:1485-1723838400-1725058800@gentesanluis.com
SUMMARY:Corridas de Toros en FENAPO 2024
DESCRIPTION:Corridas de Toros en FENAPO 2024\nLos viernes de feria\, son viernes de toros.#monumentalelpaseo \nA partir de las 8pm en la Plaza de Toros el Paseo \nBoletos a la venta por Super boletos : \nhttps://www.superboletos.com/busqueda?region=MweuKLPCu1Aisz_UEziNrA
URL:https://gentesanluis.com/event/corridas-de-toros-en-fenapo-2024/
LOCATION:PLAZA DE TOROS MONUMENTAL EL PASEO\, SAN LUIS POTOSI\, SLP\, Mexico
CATEGORIES:Corrida de Toros
ATTACH;FMTTYPE=image/jpeg:https://gentesanluis.com/wp-content/uploads/2024/07/corridas-de-toros-en-fenapo-2024.jpg
END:VEVENT
BEGIN:VEVENT
DTSTART;TZID=America/Mexico_City:20240822T233000
DTEND;TZID=America/Mexico_City:20240823T023000
DTSTAMP:20260421T102255
CREATED:20240822T173203Z
LAST-MODIFIED:20240822T173203Z
UID:1507-1724369400-1724380200@gentesanluis.com
SUMMARY:Marca Registrada en Fenapo 2024
DESCRIPTION:Marca Registrada en Palenque de Fenapo 2024 este 22 de Agosto  \nNo te los pierdas y compra ya tus boletos en taquilla del palenque o \npor el sistema smarticket
URL:https://gentesanluis.com/event/marca-registrada-en-fenapo-2024/
LOCATION:Palenque FENAPO
CATEGORIES:FENAPO 2024
ATTACH;FMTTYPE=image/jpeg:https://gentesanluis.com/wp-content/uploads/2024/08/marca-registrada-en-fenapo-2024.jpg
END:VEVENT
BEGIN:VEVENT
DTSTART;TZID=America/Mexico_City:20240823T230000
DTEND;TZID=America/Mexico_City:20240824T010000
DTSTAMP:20260421T102255
CREATED:20240703T193839Z
LAST-MODIFIED:20240704T200109Z
UID:1423-1724454000-1724461200@gentesanluis.com
SUMMARY:Alejandro Fernández en Palenque de FENAPO 2024
DESCRIPTION:Alejandro Fernández estará acompañado de su hijo Alex Fernández se estará presentando en el Palenque de FENAPO en San Luis Potosí con dos fechas los días 23 y 24 de Agosto a la 10 pm \nLos boletos están a la venta por SmartTicket \nPrecios para Alejandro Fernández en Palenque de la FENAPO 2024: \n\n\nDiamante : $4\,900\nVIP : $3\,900.00\n\n\n\n\nDORADA : $2\,900.00\n\n\n\n\nPREFERENTE : $1\,900\n\n\n\n\nGENERAL : $700.00
URL:https://gentesanluis.com/event/alejandro-fernandez-en-palenque-de-fenapo-2024/
LOCATION:Palenque FENAPO
CATEGORIES:FENAPO 2024,Feria
ATTACH;FMTTYPE=image/webp:https://gentesanluis.com/wp-content/uploads/2024/07/alejandro-fernandez.webp
END:VEVENT
END:VCALENDAR