BEGIN:VCALENDAR
VERSION:2.0
PRODID:-//Gente San Luis - ECPv6.15.20//NONSGML v1.0//EN
CALSCALE:GREGORIAN
METHOD:PUBLISH
X-WR-CALNAME:Gente San Luis
X-ORIGINAL-URL:https://gentesanluis.com
X-WR-CALDESC:Eventos para Gente San Luis
REFRESH-INTERVAL;VALUE=DURATION:PT1H
X-Robots-Tag:noindex
X-PUBLISHED-TTL:PT1H
BEGIN:VTIMEZONE
TZID:America/Mexico_City
BEGIN:STANDARD
TZOFFSETFROM:-0600
TZOFFSETTO:-0600
TZNAME:CST
DTSTART:20230101T000000
END:STANDARD
END:VTIMEZONE
BEGIN:VEVENT
DTSTART;TZID=America/Mexico_City:20240920T180000
DTEND;TZID=America/Mexico_City:20240920T230000
DTSTAMP:20260421T115520
CREATED:20240914T210608Z
LAST-MODIFIED:20240914T210608Z
UID:1551-1726855200-1726873200@gentesanluis.com
SUMMARY:El mago en San Luis Potosí
DESCRIPTION:El mago en San Luis Potosí\nLucero Mijares en el MAGO en San Luis Potosí \nen el Centro Cultural Universitario Bicentenario CC200 \n20 de Septiembre \n2 funciones : 6 y 9 pm \nBoletos a la venta por : VIPTICKET \n 
URL:https://gentesanluis.com/event/el-mago-en-san-luis-potosi/
LOCATION:Centro Cultural Universitario Bicentenario\, Av. Sierra Leona 550\, Lomas 3ra Secc\, SAN LUIS POTOSI\, SLP\, Mexico
CATEGORIES:TEATRO
ATTACH;FMTTYPE=image/jpeg:https://gentesanluis.com/wp-content/uploads/2024/09/El-mago-en-san-luis-potosi.jpg
END:VEVENT
END:VCALENDAR