BEGIN:VCALENDAR
VERSION:2.0
PRODID:-//Gente San Luis - ECPv6.15.20//NONSGML v1.0//EN
CALSCALE:GREGORIAN
METHOD:PUBLISH
X-ORIGINAL-URL:https://gentesanluis.com
X-WR-CALDESC:Eventos para Gente San Luis
REFRESH-INTERVAL;VALUE=DURATION:PT1H
X-Robots-Tag:noindex
X-PUBLISHED-TTL:PT1H
BEGIN:VTIMEZONE
TZID:America/Mexico_City
BEGIN:STANDARD
TZOFFSETFROM:-0600
TZOFFSETTO:-0600
TZNAME:CST
DTSTART:20230101T000000
END:STANDARD
END:VTIMEZONE
BEGIN:VEVENT
DTSTART;TZID=America/Mexico_City:20240926T203000
DTEND;TZID=America/Mexico_City:20240926T220000
DTSTAMP:20260421T115541
CREATED:20240723T015147Z
LAST-MODIFIED:20240723T015359Z
UID:1479-1727382600-1727388000@gentesanluis.com
SUMMARY:Game of Thrones Sinfónico
DESCRIPTION:Game of Thrones Sinfónico\nGOT Sinfónico se presenta en San Luis Potosí con todo el poder de la música de la saga completa de la serie que marcó un antes y un después. \nJueves 26 de Septiembre 20:30 hrs\, toda la banda sonora de Ramin Djawadi en este espectáculo Audio Visual de primer nivel. \nLuneta $605 ($550 + 55 CXS NO REEMBOLSABLE)\, \nPrimer Piso $495 ($450 + $45 CXS NO REEMBOLSABLE)\, \nBalcón $385 ($350 + $34 CXS NO REEMBOLSABLE).
URL:https://gentesanluis.com/event/game-of-thrones-sinfonico/
LOCATION:TEATRO DE LA PAZ\, Villerias 205\, Centro Historico\, SAN LUIS POTOSI\, SLP\, Mexico
CATEGORIES:Concierto
ATTACH;FMTTYPE=image/webp:https://gentesanluis.com/wp-content/uploads/2024/07/game-of-throne.webp
END:VEVENT
END:VCALENDAR