BEGIN:VCALENDAR
VERSION:2.0
PRODID:-//Gente San Luis - ECPv6.15.20//NONSGML v1.0//EN
CALSCALE:GREGORIAN
METHOD:PUBLISH
X-ORIGINAL-URL:https://gentesanluis.com
X-WR-CALDESC:Eventos para Gente San Luis
REFRESH-INTERVAL;VALUE=DURATION:PT1H
X-Robots-Tag:noindex
X-PUBLISHED-TTL:PT1H
BEGIN:VTIMEZONE
TZID:America/Mexico_City
BEGIN:STANDARD
TZOFFSETFROM:-0600
TZOFFSETTO:-0600
TZNAME:CST
DTSTART:20230101T000000
END:STANDARD
END:VTIMEZONE
BEGIN:VEVENT
DTSTART;TZID=America/Mexico_City:20241101T173000
DTEND;TZID=America/Mexico_City:20241101T193000
DTSTAMP:20260421T152512
CREATED:20240911T204112Z
LAST-MODIFIED:20240911T204356Z
UID:1544-1730482200-1730489400@gentesanluis.com
SUMMARY:LULI PAMPIN en SLP 2024
DESCRIPTION:LULI PAMPIN en SLP 2024\nSe presenta en El Domo de San Luis \n  \nEste 1 de Noviembre del 2024 a las 5:30 pm \nBoletos a la venta por Eticket \n  \n\n\nRUEDO VIP $1\,795.00\n\n\nRUEDO VIP 2  $1\,445.00\n\n\nRUEDO ORO$1\,100.00\n\n\nBARRERA $870.00\n\n\nTENDIDO$580.00
URL:https://gentesanluis.com/event/luli-pampin-en-slp-2024/
LOCATION:El Domo San Luis\, Francisco Martínez de La Vega 372\, Satelite\, San Luis Potosí\, San Luis Potosí\, Mexico
CATEGORIES:Infantil
ATTACH;FMTTYPE=image/jpeg:https://gentesanluis.com/wp-content/uploads/2024/09/LULI-PAMPIN-en-SLP-2024.jpg
END:VEVENT
END:VCALENDAR