BEGIN:VCALENDAR
VERSION:2.0
PRODID:-//Gente San Luis - ECPv6.15.20//NONSGML v1.0//EN
CALSCALE:GREGORIAN
METHOD:PUBLISH
X-WR-CALNAME:Gente San Luis
X-ORIGINAL-URL:https://gentesanluis.com
X-WR-CALDESC:Eventos para Gente San Luis
REFRESH-INTERVAL;VALUE=DURATION:PT1H
X-Robots-Tag:noindex
X-PUBLISHED-TTL:PT1H
BEGIN:VTIMEZONE
TZID:America/Mexico_City
BEGIN:STANDARD
TZOFFSETFROM:-0600
TZOFFSETTO:-0600
TZNAME:CST
DTSTART:20240101T000000
END:STANDARD
END:VTIMEZONE
BEGIN:VEVENT
DTSTART;TZID=America/Mexico_City:20250302T180000
DTEND;TZID=America/Mexico_City:20250302T180000
DTSTAMP:20260422T004421
CREATED:20250214T203153Z
LAST-MODIFIED:20250214T203153Z
UID:1668-1740938400-1740938400@gentesanluis.com
SUMMARY:Romeo y Julieta en SLP
DESCRIPTION:Romeo y Julieta en SLP\nen el Centro Cultural Universitario Bicentenario \, CC200 \n2 mar 2025\, 6:00 pm \n$595.50 ($525.00 Boleto + $53.00 C. x Serv. + $17.50 FEE) – Preferente \n$516.00 ($455.00 Boleto + $46.00 C. x Serv. + $15.00 FEE) – Silla Ruedas \n$516.00 ($455.00 Boleto + $46.00 C. x Serv. + $15.00 FEE) – Luneta \n$357.50 ($315.00 Boleto + $32.00 C. x Serv. + $10.50 FEE) – Primer Piso \n  \nBoletos por Showticket: \nhttps://www.showticket.com.mx/ordertickets.asp?p=3416&src=eventperformances
URL:https://gentesanluis.com/event/romeo-y-julieta-en-slp/
LOCATION:Centro Cultural Universitario Bicentenario\, Av. Sierra Leona 550\, Lomas 3ra Secc\, SAN LUIS POTOSI\, SLP\, Mexico
CATEGORIES:TEATRO
ATTACH;FMTTYPE=image/jpeg:https://gentesanluis.com/wp-content/uploads/2025/02/romeo-y-julieta-en-SLP.jpg
END:VEVENT
END:VCALENDAR