BEGIN:VCALENDAR
VERSION:2.0
PRODID:-//Gente San Luis - ECPv6.15.20//NONSGML v1.0//EN
CALSCALE:GREGORIAN
METHOD:PUBLISH
X-WR-CALNAME:Gente San Luis
X-ORIGINAL-URL:https://gentesanluis.com
X-WR-CALDESC:Eventos para Gente San Luis
REFRESH-INTERVAL;VALUE=DURATION:PT1H
X-Robots-Tag:noindex
X-PUBLISHED-TTL:PT1H
BEGIN:VTIMEZONE
TZID:America/Mexico_City
BEGIN:STANDARD
TZOFFSETFROM:-0600
TZOFFSETTO:-0600
TZNAME:CST
DTSTART:20240101T000000
END:STANDARD
END:VTIMEZONE
BEGIN:VEVENT
DTSTART;TZID=America/Mexico_City:20250330T210000
DTEND;TZID=America/Mexico_City:20250330T233000
DTSTAMP:20260422T100445
CREATED:20241125T204325Z
LAST-MODIFIED:20241125T204325Z
UID:1603-1743368400-1743377400@gentesanluis.com
SUMMARY:Kany García en SLP
DESCRIPTION:Kany García en San Luis Potosí\n  \nKany García en San Luis Potosí el próximo 30 de Marzo en el teatro de la ciudad del Parque Tangamanga 1 \n  \nBoletos por Showticket : \nwww.showticket.com.mx/KanyGarcia2025
URL:https://gentesanluis.com/event/kany-garcia-en-slp/
LOCATION:TEATRO DE LA CIUDAD PARQUE TANGAMANGA 1\, Av. Salvador Nava Martínez\, Parque Tangamanga I\, SLP\, SLP\, Mexico
CATEGORIES:Concierto
ATTACH;FMTTYPE=image/jpeg:https://gentesanluis.com/wp-content/uploads/2024/11/Kany-Garcia-en-SLP.jpg
END:VEVENT
END:VCALENDAR