BEGIN:VCALENDAR
VERSION:2.0
PRODID:-//Gente San Luis - ECPv6.15.20//NONSGML v1.0//EN
CALSCALE:GREGORIAN
METHOD:PUBLISH
X-ORIGINAL-URL:https://gentesanluis.com
X-WR-CALDESC:Eventos para Gente San Luis
REFRESH-INTERVAL;VALUE=DURATION:PT1H
X-Robots-Tag:noindex
X-PUBLISHED-TTL:PT1H
BEGIN:VTIMEZONE
TZID:America/Mexico_City
BEGIN:STANDARD
TZOFFSETFROM:-0600
TZOFFSETTO:-0600
TZNAME:CST
DTSTART:20240101T000000
END:STANDARD
END:VTIMEZONE
BEGIN:VEVENT
DTSTART;TZID=America/Mexico_City:20250418T200000
DTEND;TZID=America/Mexico_City:20250418T233000
DTSTAMP:20260422T202700
CREATED:20250404T162256Z
LAST-MODIFIED:20250404T162256Z
UID:1713-1745006400-1745019000@gentesanluis.com
SUMMARY:Procesión del Silencio San Luis Potosi 2025
DESCRIPTION:Procesión del Silencio San Luis Potosi 2025\nViernes 18 de Abril del 2025 \nInicia 8pm \n \n\n\n\nAcceso Gratuito.\n\n\nRenta de Sillas por Superboletos :\n\n\nBlanca A MXN $297\n\n\n\n\n\n\n\n\n\nBlanca AA MXN $297\n\n\n\n\n\n\n\n\n\nVerde B MXN $187\n\n\n\n\n\n\n\n\n\nVerde BB MXN $187\n\n\n\n\n\n\n\n\n\nMorada II MXN $132\n\n\n\n\n\n\n\n\n\nRosa C MXN $132\n\n\n\n\n\n\n\n\n\nRosa CC MXN $132\n\n\n\n\n\n\n\n\n\nLimon D MXN $132\n\n\n\n\n\n\n\n\n\nLimon DD MXN $132\n\n\n\n\n\n\n\nAzul E MXN $132\n\n\n\n\n\n\n\n\n\nRoja G MXN $132\n\n\n\n\n\n\n\nRoja GG MXN $132\n\n\n\n\n\n\n\n\n\nNaranja H MXN $132\n\n\n\n\n\n\n\n\n\nMorada I MXN $132\n\n\n\n\n\n\n\n\n\nAzul EE MXN $132\n\n\n\n\n\n\n\n\n\nAmarilla F MXN $132\n\n\n\n\n\n\n\n\n\nAmarilla FF MXN $132\n\n\n\n\n\n\n\n\n\nNaranja HH MXN $132\n\n\n\n\n\n\n\n\n\nIndependencia 1 MXN $77\n\n\n\n\n\n\n\n\n\nIndependencia 2 MXN $77\n\n\n\n 
URL:https://gentesanluis.com/event/procesion-del-silencio-san-luis-potosi-2025/
LOCATION:TEATRO DE LA PAZ\, Villerias 205\, Centro Historico\, SAN LUIS POTOSI\, SLP\, Mexico
ATTACH;FMTTYPE=image/jpeg:https://gentesanluis.com/wp-content/uploads/2025/04/Procesion-del-Silencio-San-Luis-Potosi-2025.jpg
END:VEVENT
END:VCALENDAR