BEGIN:VCALENDAR
VERSION:2.0
PRODID:-//Gente San Luis - ECPv6.15.20//NONSGML v1.0//EN
CALSCALE:GREGORIAN
METHOD:PUBLISH
X-WR-CALNAME:Gente San Luis
X-ORIGINAL-URL:https://gentesanluis.com
X-WR-CALDESC:Eventos para Gente San Luis
REFRESH-INTERVAL;VALUE=DURATION:PT1H
X-Robots-Tag:noindex
X-PUBLISHED-TTL:PT1H
BEGIN:VTIMEZONE
TZID:America/Mexico_City
BEGIN:STANDARD
TZOFFSETFROM:-0600
TZOFFSETTO:-0600
TZNAME:CST
DTSTART:20240101T000000
END:STANDARD
END:VTIMEZONE
BEGIN:VEVENT
DTSTART;TZID=America/Mexico_City:20250425T210000
DTEND;TZID=America/Mexico_City:20250425T233000
DTSTAMP:20260422T202116
CREATED:20250420T192713Z
LAST-MODIFIED:20250420T192713Z
UID:1735-1745614800-1745623800@gentesanluis.com
SUMMARY:José Madero en SLP 2025
DESCRIPTION:José Madero en San Luis Potosí 2025\nTeatro de la Paz \n25 de Abril \, 9 pm \nBoletos en Taquillas del Teatro y por Ticketmania \nPrecios:\nLuneta 1: $1\,792.00 (MX $1\,600.00+ MX $192.00 Cargo por servicio de reservación no reembolsable).\nLuneta 2: $1\,456.00 (MX $1\,300.00+ MX $156.00 Cargo por servicio de reservación no reembolsable).\nPrimer piso: $1\,120.00 (MX $1\,000.00+ MX $120.00 Cargo por servicio de reservación no reembolsable).\nBalcón: $1\,008.00 (MX $900.00+ MX $108.00 Cargo por servicio de reservación no reembolsable). \n 
URL:https://gentesanluis.com/event/jose-madero-en-slp-2025/
LOCATION:TEATRO DE LA PAZ\, Villerias 205\, Centro Historico\, SAN LUIS POTOSI\, SLP\, Mexico
CATEGORIES:Concierto
ATTACH;FMTTYPE=image/jpeg:https://gentesanluis.com/wp-content/uploads/2025/04/Jose-Madero-en-SLP-2025.jpg
END:VEVENT
END:VCALENDAR