BEGIN:VCALENDAR
VERSION:2.0
PRODID:-//Gente San Luis - ECPv6.15.20//NONSGML v1.0//EN
CALSCALE:GREGORIAN
METHOD:PUBLISH
X-WR-CALNAME:Gente San Luis
X-ORIGINAL-URL:https://gentesanluis.com
X-WR-CALDESC:Eventos para Gente San Luis
REFRESH-INTERVAL;VALUE=DURATION:PT1H
X-Robots-Tag:noindex
X-PUBLISHED-TTL:PT1H
BEGIN:VTIMEZONE
TZID:America/Mexico_City
BEGIN:DAYLIGHT
TZOFFSETFROM:-0600
TZOFFSETTO:-0500
TZNAME:CDT
DTSTART:20220403T080000
END:DAYLIGHT
BEGIN:STANDARD
TZOFFSETFROM:-0500
TZOFFSETTO:-0600
TZNAME:CST
DTSTART:20221030T070000
END:STANDARD
END:VTIMEZONE
BEGIN:VEVENT
DTSTART;TZID=America/Mexico_City:20230813T110000
DTEND;TZID=America/Mexico_City:20230813T170000
DTSTAMP:20260423T085550
CREATED:20230804T163647Z
LAST-MODIFIED:20230804T163647Z
UID:1215-1691924400-1691946000@gentesanluis.com
SUMMARY:NASCAR
DESCRIPTION:Nascar México es el campeonato de autos stock más importante de América Latina. \nNASCAR México Series es el principal certamen mexicano de automovilismo de velocidad organizado por NASCAR y Jimmy Morales\, y es el primer campeonato de NASCAR organizado fuera de Estados Unidos (el segundo fue NASCAR Canadá y después NASCAR Europa). \nNASCAR México Series cuenta con dos categorías de autos con chasís tubular y carrocerías fabricadas en aluminio y plásticos que imitan modelos de automóviles de producción. En la carrera participan dos categorías: NASCAR México y NASCAR Challenge\, las dos categorías corren con los mismos autos pero son dos campeonatos independientes. \nLos mejores pilotos\, los equipos más profesionales en el país\, ofrecen un espectáculo 100% racing cargado de adrenalina y de competitividad internacional.
URL:https://gentesanluis.com/event/nascar/
LOCATION:super óvalo potosino\, Km. 237\, San Luis Potosí\, SLP\, Mexico
CATEGORIES:AUTODROMO
ATTACH;FMTTYPE=image/jpeg:https://gentesanluis.com/wp-content/uploads/2023/08/FB_IMG_1691070229847.jpg
END:VEVENT
END:VCALENDAR