BEGIN:VCALENDAR
VERSION:2.0
PRODID:-//Gente San Luis - ECPv6.15.20//NONSGML v1.0//EN
CALSCALE:GREGORIAN
METHOD:PUBLISH
X-ORIGINAL-URL:https://gentesanluis.com
X-WR-CALDESC:Eventos para Gente San Luis
REFRESH-INTERVAL;VALUE=DURATION:PT1H
X-Robots-Tag:noindex
X-PUBLISHED-TTL:PT1H
BEGIN:VTIMEZONE
TZID:America/Mexico_City
BEGIN:STANDARD
TZOFFSETFROM:-0600
TZOFFSETTO:-0600
TZNAME:CST
DTSTART:20230101T000000
END:STANDARD
END:VTIMEZONE
BEGIN:VEVENT
DTSTART;TZID=America/Mexico_City:20240525T080000
DTEND;TZID=America/Mexico_City:20240525T170000
DTSTAMP:20260424T164002
CREATED:20240215T203151Z
LAST-MODIFIED:20240215T203151Z
UID:1336-1716624000-1716656400@gentesanluis.com
SUMMARY:AIR SUPPLY en SAN LUIS POTOSI 2024
DESCRIPTION:AIR SUPPLY en SAN LUIS POTOSI 2024\nEste 25 de Mayo del 2024 a las 9pm \nEn la Plaza de Toros El Paseo SLP \nBoletos por Boletea \nBoletos para AIR SUPPLY en SAN LUIS POTOSI 2024 \nVIP – $2\,690.00 \nBarreras – $1\,980.00 \nPalcos – $1\,680.00 \nTendidos – $1\,230.00 \nGral Vista Limitada – $890.00
URL:https://gentesanluis.com/event/air-supply-en-san-luis-potosi-2024/
LOCATION:PLAZA DE TOROS MONUMENTAL EL PASEO\, SAN LUIS POTOSI\, SLP\, Mexico
CATEGORIES:Concierto
ATTACH;FMTTYPE=image/jpeg:https://gentesanluis.com/wp-content/uploads/2024/02/AIR-SUPPLY-EN-SAN-LUIS-POTOSI.jpg
END:VEVENT
END:VCALENDAR