BEGIN:VCALENDAR
VERSION:2.0
PRODID:-//Gente San Luis - ECPv6.15.20//NONSGML v1.0//EN
CALSCALE:GREGORIAN
METHOD:PUBLISH
X-WR-CALNAME:Gente San Luis
X-ORIGINAL-URL:https://gentesanluis.com
X-WR-CALDESC:Eventos para Gente San Luis
REFRESH-INTERVAL;VALUE=DURATION:PT1H
X-Robots-Tag:noindex
X-PUBLISHED-TTL:PT1H
BEGIN:VTIMEZONE
TZID:America/Mexico_City
BEGIN:STANDARD
TZOFFSETFROM:-0600
TZOFFSETTO:-0600
TZNAME:CST
DTSTART:20240101T000000
END:STANDARD
END:VTIMEZONE
BEGIN:VEVENT
DTSTART;TZID=America/Mexico_City:20250516T200000
DTEND;TZID=America/Mexico_City:20250516T233000
DTSTAMP:20260421T220109
CREATED:20241220T202256Z
LAST-MODIFIED:20250430T204535Z
UID:1632-1747425600-1747438200@gentesanluis.com
SUMMARY:Caifanes en SLP 2025
DESCRIPTION:Caifanes en SLP 2025\nCaifanes en San Luis Potosí este 16 de Mayo del 2025 \noriginalmente en El Domo San Luis \, se cambio el evento  al Teatro de la Ciudad del Parque Tangamanga 2 \nBoletos ya a al venta por Arema Ticket \nCosto boletos Caifanes : \nRuedo Vip: $1\,850 \nBarrera: $1\,450 \nTendido: $895 \nButaca: $595 \n 
URL:https://gentesanluis.com/event/caifanes-en-slp-2025/
LOCATION:Teatro de la Ciudad del Parque Tangamanga 2\, Mexico
CATEGORIES:Concierto
ATTACH;FMTTYPE=image/jpeg:https://gentesanluis.com/wp-content/uploads/2024/12/Caifanes-en-SLP-2025.jpg
END:VEVENT
END:VCALENDAR