BEGIN:VCALENDAR
VERSION:2.0
PRODID:-//Gente San Luis - ECPv6.15.20//NONSGML v1.0//EN
CALSCALE:GREGORIAN
METHOD:PUBLISH
X-WR-CALNAME:Gente San Luis
X-ORIGINAL-URL:https://gentesanluis.com
X-WR-CALDESC:Eventos para Gente San Luis
REFRESH-INTERVAL;VALUE=DURATION:PT1H
X-Robots-Tag:noindex
X-PUBLISHED-TTL:PT1H
BEGIN:VTIMEZONE
TZID:America/Mexico_City
BEGIN:STANDARD
TZOFFSETFROM:-0600
TZOFFSETTO:-0600
TZNAME:CST
DTSTART:20230101T000000
END:STANDARD
END:VTIMEZONE
BEGIN:VEVENT
DTSTART;TZID=America/Mexico_City:20240920T180000
DTEND;TZID=America/Mexico_City:20240920T230000
DTSTAMP:20260421T152741
CREATED:20240914T210608Z
LAST-MODIFIED:20240914T210608Z
UID:1551-1726855200-1726873200@gentesanluis.com
SUMMARY:El mago en San Luis Potosí
DESCRIPTION:El mago en San Luis Potosí\nLucero Mijares en el MAGO en San Luis Potosí \nen el Centro Cultural Universitario Bicentenario CC200 \n20 de Septiembre \n2 funciones : 6 y 9 pm \nBoletos a la venta por : VIPTICKET \n 
URL:https://gentesanluis.com/event/el-mago-en-san-luis-potosi/
LOCATION:Centro Cultural Universitario Bicentenario\, Av. Sierra Leona 550\, Lomas 3ra Secc\, SAN LUIS POTOSI\, SLP\, Mexico
CATEGORIES:TEATRO
ATTACH;FMTTYPE=image/jpeg:https://gentesanluis.com/wp-content/uploads/2024/09/El-mago-en-san-luis-potosi.jpg
END:VEVENT
BEGIN:VEVENT
DTSTART;TZID=America/Mexico_City:20240921T190000
DTEND;TZID=America/Mexico_City:20240921T213000
DTSTAMP:20260421T152741
CREATED:20240827T030234Z
LAST-MODIFIED:20240827T030234Z
UID:1511-1726945200-1726954200@gentesanluis.com
SUMMARY:JOHN MILTON EN SLP
DESCRIPTION:🧠 JOHN MILTON EN SLP 🧠\n🗓 21 de septiembre\n📍 Cineteca Alameda\n🎟 $420 I $530 I $640 I $750 (más cargo)\n✅ De venta en https://soldout.ticketcity.mx/john-milton-slp/cineteca-alameda/2024/09/21\n💤 #DuérmaseSLP2024
URL:https://gentesanluis.com/event/john-milton-en-slp/
LOCATION:CINETECA ALAMEDA\, Avenida Universidad 575\, SAN LUIS POTOSI\, SLP\, Mexico
CATEGORIES:TEATRO
ATTACH;FMTTYPE=image/jpeg:https://gentesanluis.com/wp-content/uploads/2024/08/john-milton-en-san-luis-potosi-2024.jpg
END:VEVENT
BEGIN:VEVENT
DTSTART;TZID=America/Mexico_City:20240921T200000
DTEND;TZID=America/Mexico_City:20240921T220000
DTSTAMP:20260421T152741
CREATED:20240910T204617Z
LAST-MODIFIED:20240910T204617Z
UID:1522-1726948800-1726956000@gentesanluis.com
SUMMARY:Lomejor del rock en español en San Luis Potosi 2024
DESCRIPTION:Lomejor del rock en español en San Luis Potosi 2024\n  \nEn el Teatro de la Paz este 21 de Septiembre \n  \nBoletos por VIPTICKET y taquillas del Teatro
URL:https://gentesanluis.com/event/lomejor-del-rock-en-espanol-en-san-luis-potosi-2024/
LOCATION:TEATRO DE LA PAZ\, Villerias 205\, Centro Historico\, SAN LUIS POTOSI\, SLP\, Mexico
CATEGORIES:Concierto
ATTACH;FMTTYPE=image/jpeg:https://gentesanluis.com/wp-content/uploads/2024/09/lomejor-del-rock-en-espanol-en-san-luis-potosi-2024.jpg
END:VEVENT
BEGIN:VEVENT
DTSTART;TZID=America/Mexico_City:20240926T203000
DTEND;TZID=America/Mexico_City:20240926T220000
DTSTAMP:20260421T152741
CREATED:20240723T015147Z
LAST-MODIFIED:20240723T015359Z
UID:1479-1727382600-1727388000@gentesanluis.com
SUMMARY:Game of Thrones Sinfónico
DESCRIPTION:Game of Thrones Sinfónico\nGOT Sinfónico se presenta en San Luis Potosí con todo el poder de la música de la saga completa de la serie que marcó un antes y un después. \nJueves 26 de Septiembre 20:30 hrs\, toda la banda sonora de Ramin Djawadi en este espectáculo Audio Visual de primer nivel. \nLuneta $605 ($550 + 55 CXS NO REEMBOLSABLE)\, \nPrimer Piso $495 ($450 + $45 CXS NO REEMBOLSABLE)\, \nBalcón $385 ($350 + $34 CXS NO REEMBOLSABLE).
URL:https://gentesanluis.com/event/game-of-thrones-sinfonico/
LOCATION:TEATRO DE LA PAZ\, Villerias 205\, Centro Historico\, SAN LUIS POTOSI\, SLP\, Mexico
CATEGORIES:Concierto
ATTACH;FMTTYPE=image/webp:https://gentesanluis.com/wp-content/uploads/2024/07/game-of-throne.webp
END:VEVENT
BEGIN:VEVENT
DTSTART;TZID=America/Mexico_City:20241004T203000
DTEND;TZID=America/Mexico_City:20241004T230000
DTSTAMP:20260421T152741
CREATED:20240911T025755Z
LAST-MODIFIED:20240911T025755Z
UID:1531-1728073800-1728082800@gentesanluis.com
SUMMARY:A ritmo de bohemia San Luis Potosi 2024
DESCRIPTION:A ritmo de bohemia San Luis Potosí 2024\nen Cineteca Alameda \nEste 4 de Octubre 8:30 pm \nBoletos por Super Boletos \n#GenteSanLuis
URL:https://gentesanluis.com/event/a-ritmo-de-bohemia-san-luis-potosi-2024/
LOCATION:CINETECA ALAMEDA\, Avenida Universidad 575\, SAN LUIS POTOSI\, SLP\, Mexico
CATEGORIES:Concierto
ATTACH;FMTTYPE=image/jpeg:https://gentesanluis.com/wp-content/uploads/2024/09/a-ritmo-de-bohemia-san-luis-potosi-2024.jpg
END:VEVENT
BEGIN:VEVENT
DTSTART;TZID=America/Mexico_City:20241005T200000
DTEND;TZID=America/Mexico_City:20241005T230000
DTSTAMP:20260421T152741
CREATED:20240910T203644Z
LAST-MODIFIED:20240910T203644Z
UID:1519-1728158400-1728169200@gentesanluis.com
SUMMARY:CD9 en San Luis Potosí 2024
DESCRIPTION:CD9 en San Luis Potosí 2024\n  \nLlega CD9 con The Last Party Tour 🥳🥳\nEn El Domo SanLuis este 5 de octubre \n  \nBoletos por eticket
URL:https://gentesanluis.com/event/cd9-en-san-luis-potosi-2024/
LOCATION:El Domo San Luis\, Francisco Martínez de La Vega 372\, Satelite\, San Luis Potosí\, San Luis Potosí\, Mexico
CATEGORIES:Concierto
ATTACH;FMTTYPE=image/jpeg:https://gentesanluis.com/wp-content/uploads/2024/09/cd9-en-san-luis-potosi-2024.jpg
END:VEVENT
BEGIN:VEVENT
DTSTART;TZID=America/Mexico_City:20241005T210000
DTEND;TZID=America/Mexico_City:20241005T233000
DTSTAMP:20260421T152741
CREATED:20240911T184655Z
LAST-MODIFIED:20240911T184655Z
UID:1534-1728162000-1728171000@gentesanluis.com
SUMMARY:The 69 eyes en San Luis Potosi
DESCRIPTION:THE 69 EYES en SLP\n\n05 de Octubre en el Club Deportivo 2000\n\nEvento oficial: https://go.caciquemx.com/69EyesSLP2024\nGENERAL:\nPreventa Especial: $850 pesos (50 tickets solo ONLINE)\nPreventa: $950 pesos\nDía del Evento: $1\,050 pesos\n*** EVENTO PARA TODAS LAS EDADES ***\n*** CUPO LIMITADO ***\n PUNTOS DE VENTA – FÍSICOS:\n• Rock Shop Dark Entries Julian de los Reyes 308-3\nCentro Historico.\n PUNTOS DE VENTA – CON CARGOS:\n• ONLINE: www.caciquemx.com/boletos
URL:https://gentesanluis.com/event/the-69-eyes-en-san-luis-potosi/
LOCATION:Club Deportivo 2000
CATEGORIES:Concierto
ATTACH;FMTTYPE=image/jpeg:https://gentesanluis.com/wp-content/uploads/2024/09/The-69-eyes-en-San-Luis-Potosi.jpg
END:VEVENT
BEGIN:VEVENT
DTSTART;TZID=America/Mexico_City:20241011T200000
DTEND;TZID=America/Mexico_City:20241011T230000
DTSTAMP:20260421T152741
CREATED:20240910T205243Z
LAST-MODIFIED:20240910T205243Z
UID:1528-1728676800-1728687600@gentesanluis.com
SUMMARY:Enjambre en San Luis Potosí 2024
DESCRIPTION:Enjambre en San Luis Potosí 2024\nen el Teatro de la Ciudad del Parque Tangamanga 1 \nEste 11 de Octubre \nBoletos por Arema Ticket
URL:https://gentesanluis.com/event/enjambre-en-san-luis-potosi-2024/
LOCATION:TEATRO DE LA CIUDAD PARQUE TANGAMANGA 1\, Av. Salvador Nava Martínez\, Parque Tangamanga I\, SLP\, SLP\, Mexico
CATEGORIES:Concierto
ATTACH;FMTTYPE=image/jpeg:https://gentesanluis.com/wp-content/uploads/2024/09/Enjambre-en-San-Luis-Potosi-2024.jpg
END:VEVENT
BEGIN:VEVENT
DTSTART;TZID=America/Mexico_City:20241024T200000
DTEND;TZID=America/Mexico_City:20241024T220000
DTSTAMP:20260421T152741
CREATED:20240715T221103Z
LAST-MODIFIED:20240715T221103Z
UID:1458-1729800000-1729807200@gentesanluis.com
SUMMARY:Grupo Frontera en SLP 2024
DESCRIPTION:Grupo Frontera en SLP este 24 de Octubre en el Domo \, \nboletos a la venta por eticket.mx . \n  \nno te pierdas este gran tour !
URL:https://gentesanluis.com/event/grupo-frontera-en-slp-2024/
LOCATION:El Domo San Luis\, Francisco Martínez de La Vega 372\, Satelite\, San Luis Potosí\, San Luis Potosí\, Mexico
CATEGORIES:Concierto
ATTACH;FMTTYPE=image/jpeg:https://gentesanluis.com/wp-content/uploads/2024/07/grupo-frontera-en-slp.jpg
END:VEVENT
BEGIN:VEVENT
DTSTART;TZID=America/Mexico_City:20241026T200000
DTEND;TZID=America/Mexico_City:20241026T223000
DTSTAMP:20260421T152741
CREATED:20241011T025036Z
LAST-MODIFIED:20241011T025036Z
UID:1562-1729972800-1729981800@gentesanluis.com
SUMMARY:𝐋𝐎𝐒 𝐓𝐑𝐄𝐒 𝐓𝐑𝐈𝐒𝐓𝐄𝐒 𝐓𝐈𝐆𝐑𝐄𝐒 en SLP
DESCRIPTION:𝐋𝐎𝐒 𝐓𝐑𝐄𝐒 𝐓𝐑𝐈𝐒𝐓𝐄𝐒 𝐓𝐈𝐆𝐑𝐄𝐒 en SLP\nEste 26 de Octubre 8pm en el Teatro de la Paz \n  \nBoletos a la venta por Ticketmania \nPrecios en efectivo:\nLuneta $660 y $550\n1er píso $440\nBalcón $330\n\nTambien de venta física en :\n\nTAQUILLA DEL TEATRO DE LA PAZ de L-V 12:00pm a 8:00pm Sáb de 12:00pm a 5:00pm\no en la Cineteca Alameda\, Trinus Viajes o Fika tours
URL:https://gentesanluis.com/event/%f0%9d%90%8b%f0%9d%90%8e%f0%9d%90%92-%f0%9d%90%93%f0%9d%90%91%f0%9d%90%84%f0%9d%90%92-%f0%9d%90%93%f0%9d%90%91%f0%9d%90%88%f0%9d%90%92%f0%9d%90%93%f0%9d%90%84%f0%9d%90%92-%f0%9d%90%93%f0%9d%90%88/
LOCATION:TEATRO DE LA PAZ\, Villerias 205\, Centro Historico\, SAN LUIS POTOSI\, SLP\, Mexico
CATEGORIES:Concierto
ATTACH;FMTTYPE=image/jpeg:https://gentesanluis.com/wp-content/uploads/2024/10/𝐋𝐎𝐒-𝐓𝐑𝐄𝐒-𝐓𝐑𝐈𝐒𝐓𝐄𝐒-𝐓𝐈𝐆𝐑𝐄𝐒-en-SLP.jpg
END:VEVENT
BEGIN:VEVENT
DTSTART;TZID=America/Mexico_City:20241026T200000
DTEND;TZID=America/Mexico_City:20241026T233000
DTSTAMP:20260421T152741
CREATED:20240915T064608Z
LAST-MODIFIED:20240915T064608Z
UID:1554-1729972800-1729985400@gentesanluis.com
SUMMARY:Los Tigres del Norte en San Luis Potosí
DESCRIPTION:Los Tigres del Norte en San Luis Potosí\nPrimer evento en la ARENA POTOSI \n\n\n\n\n\n26 de Octubre\n\n\n\nPuntos de venta OFICIALES para Los Tigres del Norte :\n– HOLIDAY INN QUIJOTE\n– FARMACIAS DEL AHORRO:\n*Los Bravo #190 col. Centro.\n*Carretera 57 esq. Av San Pedro.\n*Av. de la Paz #103 Barrio de Santiago.\n*Av. Tercer Milenio #265 Lomas del Tec.
URL:https://gentesanluis.com/event/los-tigres-del-norte-en-san-luis-potosi/
LOCATION:Arena Potosi\, Av. Simón Díaz 245\, Satélite\, San Luis Potosí\, San Luis Potosí\, San Luis Potosí\, Mexico
CATEGORIES:Concierto
ATTACH;FMTTYPE=image/jpeg:https://gentesanluis.com/wp-content/uploads/2024/09/los-tigres-del-norte-en-san-luis-potosi-arena-potosi.jpg
END:VEVENT
BEGIN:VEVENT
DTSTART;TZID=America/Mexico_City:20241026T210000
DTEND;TZID=America/Mexico_City:20241026T230000
DTSTAMP:20260421T152741
CREATED:20240703T202956Z
LAST-MODIFIED:20240703T203103Z
UID:1427-1729976400-1729983600@gentesanluis.com
SUMMARY:Marisela en San Luis Potosí 2024
DESCRIPTION:¡Marisela! La Dama de Hierro presentará su concierto Con Amor World Tour este próximo 26 de Octubre en el Palenque de San Luis Potosí a las 9 pm. \nBoletos a la venta ya por Arema Tickets \n  \nPrecios para Marisela en San Luis Potosí \nVIP: $1\,650pale \nOro: $1\,300 \nPlata: $950 \nGrada: $650
URL:https://gentesanluis.com/event/marisela-en-san-luis-potosi-2024/
LOCATION:palenque
CATEGORIES:Concierto
ATTACH;FMTTYPE=image/webp:https://gentesanluis.com/wp-content/uploads/2024/07/WhatsApp-Image-2024-07-03-at-1.50.43-PM.webp
END:VEVENT
BEGIN:VEVENT
DTSTART;TZID=America/Mexico_City:20241101T173000
DTEND;TZID=America/Mexico_City:20241101T193000
DTSTAMP:20260421T152741
CREATED:20240911T204112Z
LAST-MODIFIED:20240911T204356Z
UID:1544-1730482200-1730489400@gentesanluis.com
SUMMARY:LULI PAMPIN en SLP 2024
DESCRIPTION:LULI PAMPIN en SLP 2024\nSe presenta en El Domo de San Luis \n  \nEste 1 de Noviembre del 2024 a las 5:30 pm \nBoletos a la venta por Eticket \n  \n\n\nRUEDO VIP $1\,795.00\n\n\nRUEDO VIP 2  $1\,445.00\n\n\nRUEDO ORO$1\,100.00\n\n\nBARRERA $870.00\n\n\nTENDIDO$580.00
URL:https://gentesanluis.com/event/luli-pampin-en-slp-2024/
LOCATION:El Domo San Luis\, Francisco Martínez de La Vega 372\, Satelite\, San Luis Potosí\, San Luis Potosí\, Mexico
CATEGORIES:Infantil
ATTACH;FMTTYPE=image/jpeg:https://gentesanluis.com/wp-content/uploads/2024/09/LULI-PAMPIN-en-SLP-2024.jpg
END:VEVENT
BEGIN:VEVENT
DTSTART;TZID=America/Mexico_City:20241102T210000
DTEND;TZID=America/Mexico_City:20241102T230000
DTSTAMP:20260421T152741
CREATED:20240529T074407Z
LAST-MODIFIED:20240529T074407Z
UID:1408-1730581200-1730588400@gentesanluis.com
SUMMARY:BELANOVA en SLP 2024
DESCRIPTION:BELANOVA en SLP 2024\nBELANOVA en San Luis Potosí este 2 de Noviembre del 2024 a las 9pm en el Teatro de la Ciudad del Parque Tangamanga I \nBoletos ya a la venta por Ticketmania \nPrecios Belanova SLP :\n  \nPrecios:\nGeneral: $1\,008.00 (MX $900.00+ MX $108.00 Cargo por servicio no reembolsable).\nPreferente: $1\,456.00 (MX $1\,300.00+ MX $156.00 Cargo por servicio no reembolsable).\nPlus: $2\,016.00 (MX $1\,800.00+ MX $216.00 Cargo por servicio no reembolsable).\nVIP: $2\,464.00 (MX $2\,200.00+ MX $264.00 Cargo por servicio no reembolsable).\nDiamante: $2\,800.00 (MX $2\,500.00+ MX $300.00 Cargo por servicio no reembolsable).
URL:https://gentesanluis.com/event/belanova-en-slp-2024/
LOCATION:SLP
CATEGORIES:Concierto
ATTACH;FMTTYPE=image/jpeg:https://gentesanluis.com/wp-content/uploads/2024/05/Belanova-en-SLP-2024.jpg
END:VEVENT
BEGIN:VEVENT
DTSTART;TZID=America/Mexico_City:20241102T210000
DTEND;TZID=America/Mexico_City:20241102T230000
DTSTAMP:20260421T152741
CREATED:20240911T201816Z
LAST-MODIFIED:20240911T201816Z
UID:1541-1730581200-1730588400@gentesanluis.com
SUMMARY:MON LAFERTE en SLP 2024
DESCRIPTION:MON LAFERTE en SLP 2024\nMON LAFERTE en SLP 2024 este 2 de Noviembre en el Domo de San Luis \, 9 pm y los boletos ya están a le venta por Eticket
URL:https://gentesanluis.com/event/mon-laferte-en-slp-2024/
LOCATION:El Domo San Luis\, Francisco Martínez de La Vega 372\, Satelite\, San Luis Potosí\, San Luis Potosí\, Mexico
CATEGORIES:Concierto
ATTACH;FMTTYPE=image/jpeg:https://gentesanluis.com/wp-content/uploads/2024/09/MON-LAFERTE-en-SLP-2024.jpg
END:VEVENT
BEGIN:VEVENT
DTSTART;TZID=America/Mexico_City:20241106T200000
DTEND;TZID=America/Mexico_City:20241106T200000
DTSTAMP:20260421T152741
CREATED:20240911T194008Z
LAST-MODIFIED:20240911T194008Z
UID:1538-1730923200-1730923200@gentesanluis.com
SUMMARY:Veintidós Veintidós en San Luis Potosí
DESCRIPTION:Veintidós Veintidós en San Luis Potosí\nTeatro de la Paz \nBoletos por Ticketmania y Taquillas del Teatro \nVerónica atraviesa por la que considera la peor crisis de su existencia\, arrastrándola a tomar una drástica decisión. Durante este duro proceso se encuentra con un singular personaje que se hace llamar ATT\, quien a su vez la lleva a confrontar y entender que los mejores y peores momentos de su vida\, son en realidad los que la hacen única y extraordinaria. De este modo\, la lleva paso a paso a reconsiderar una resolución\, que ya es definitiva. \nClasificación: Mayores de 12 años
URL:https://gentesanluis.com/event/veintidos-veintidos-en-san-luis-potosi/
LOCATION:TEATRO DE LA PAZ\, Villerias 205\, Centro Historico\, SAN LUIS POTOSI\, SLP\, Mexico
CATEGORIES:TEATRO
ATTACH;FMTTYPE=image/jpeg:https://gentesanluis.com/wp-content/uploads/2024/09/veintidos-veintidos.jpg
END:VEVENT
BEGIN:VEVENT
DTSTART;TZID=America/Mexico_City:20241109T203000
DTEND;TZID=America/Mexico_City:20241109T220000
DTSTAMP:20260421T152741
CREATED:20241103T191006Z
LAST-MODIFIED:20241103T191006Z
UID:1578-1731184200-1731189600@gentesanluis.com
SUMMARY:El lago de los cisnes en San Luis Potosí 2024
DESCRIPTION:El lago de los cisnes en San Luis Potosí 2024\nEste 9 de Noviembre 8:30 pm\, \nEn el Teatro de la Paz SLP \nBoletos ya a la venta por : www.superboletos.com y en Taquilla del Teatro !!!
URL:https://gentesanluis.com/event/el-lago-de-los-cisnes-en-san-luis-potosi-2024/
LOCATION:TEATRO DE LA PAZ\, Villerias 205\, Centro Historico\, SAN LUIS POTOSI\, SLP\, Mexico
CATEGORIES:Concierto
ATTACH;FMTTYPE=image/jpeg:https://gentesanluis.com/wp-content/uploads/2024/11/el-lago-de-los-cisnes-en-san-luis-potosi-2024.jpg
END:VEVENT
BEGIN:VEVENT
DTSTART;TZID=America/Mexico_City:20241115T210000
DTEND;TZID=America/Mexico_City:20241115T233000
DTSTAMP:20260421T152741
CREATED:20241017T171420Z
LAST-MODIFIED:20241017T171420Z
UID:1574-1731704400-1731713400@gentesanluis.com
SUMMARY:PLATANITO en SAN LUIS POTOSÍ 2024
DESCRIPTION:PLATANITO en SAN LUIS POTOSÍ 2024\nPLATANITO REGRESA A SAN LUIS POTOSÍ CON SU GIRA “LE DUELA A QUIEN LE DUELA… WORLD TOUR” EL 15 DE NOVIEMBRE \n●La cita es en la Cineteca Alameda a las 9 de la noche●Controvertido y polémico pera cargado de chistes \nPLATANITO ofrecerá en la capital potosina solo una presentación el viernes 15 de noviembre a las 21:00 hrs en la Cineteca Alameda dónde ya puede adquirir sus boletos en taquillas.Además también pueden comprar sus tickets por el sistema AREMA.MX y no quedarse sin disfrutar de PLATANITO quien le garantiza risas de principio a fin.
URL:https://gentesanluis.com/event/platanito-en-san-luis-potosi-2024/
LOCATION:CINETECA ALAMEDA\, Avenida Universidad 575\, SAN LUIS POTOSI\, SLP\, Mexico
ATTACH;FMTTYPE=image/jpeg:https://gentesanluis.com/wp-content/uploads/2024/10/platanito-en-SLP-2024.jpg
END:VEVENT
BEGIN:VEVENT
DTSTART;TZID=America/Mexico_City:20241116T210000
DTEND;TZID=America/Mexico_City:20241116T230000
DTSTAMP:20260421T152741
CREATED:20240305T150955Z
LAST-MODIFIED:20240305T150955Z
UID:1382-1731790800-1731798000@gentesanluis.com
SUMMARY:Gera MX en San Luis Potosi
DESCRIPTION:Gera MX en San Luis Potosi\n Gera MX  gran exponente del rap en México llega a San Luis Potosí este : \n16 noviembre 2024 – 21:00hrs \nen el Teatro al Aire Libre Parque Tangamanga \nPrecios Gera MX  en SLP : \nZona Fan: $1545\nVip lateral: $1145\nPlus Centro: $865\nPlus Lateral: $795\nPreferente Central: $585 \n  \nBoletos por Arema
URL:https://gentesanluis.com/event/gera-mx-en-san-luis-potosi/
LOCATION:TEATRO DE LA CIUDAD PARQUE TANGAMANGA 1\, Av. Salvador Nava Martínez\, Parque Tangamanga I\, SLP\, SLP\, Mexico
CATEGORIES:Concierto
ATTACH;FMTTYPE=image/jpeg:https://gentesanluis.com/wp-content/uploads/2024/03/gera-mx-en-slp-2024.jpg
END:VEVENT
BEGIN:VEVENT
DTSTART;TZID=America/Mexico_City:20241123T190000
DTEND;TZID=America/Mexico_City:20241123T200000
DTSTAMP:20260421T152741
CREATED:20241119T164946Z
LAST-MODIFIED:20241119T165302Z
UID:1591-1732388400-1732392000@gentesanluis.com
SUMMARY:Gipsy Kings en San Luis Potosí
DESCRIPTION:Gipsy Kings en San Luis Potosí\nTeatro de la Ciudad del Parque Tangamanga 1 \nnoviembre 23\, 2024 7:00 pm \nBoletos por Ticketmania y Taquillas del Teatro de la Paz \nPrecios:\nPreferente: $784.00 (MX $700.00+ MX $84.00 Cargo por servicio no reembolsable).\nPlus: $1\,456.00 (MX $1\,300.00+ MX $156.00 Cargo por servicio no reembolsable).\nVIP: $2\,240.00 (MX $2\,000.00+ MX $240.00 Cargo por servicio no reembolsable).\nDiamante: $2\,800.00 (MX $2\,500.00+ MX $300.00 Cargo por servicio no reembolsable).
URL:https://gentesanluis.com/event/gipsy-kings-en-san-luis-potosi/
LOCATION:TEATRO DE LA CIUDAD PARQUE TANGAMANGA 1\, Av. Salvador Nava Martínez\, Parque Tangamanga I\, SLP\, SLP\, Mexico
CATEGORIES:Concierto
ATTACH;FMTTYPE=image/jpeg:https://gentesanluis.com/wp-content/uploads/2024/11/gipsy-kings.jpg
END:VEVENT
BEGIN:VEVENT
DTSTART;TZID=America/Mexico_City:20241126T200000
DTEND;TZID=America/Mexico_City:20241126T223000
DTSTAMP:20260421T152741
CREATED:20241103T194234Z
LAST-MODIFIED:20241103T194234Z
UID:1581-1732651200-1732660200@gentesanluis.com
SUMMARY:Ari Telch en San Luis Potosí 2024
DESCRIPTION:Ari Telch en San Luis Potosí 2024\nTeatro de la Paz 26 de Noviembre 8 pm . \nBoletos por Arema y taquilla del Teatro de la Paz
URL:https://gentesanluis.com/event/ari-telch-en-san-luis-potosi-2024/
LOCATION:TEATRO DE LA PAZ\, Villerias 205\, Centro Historico\, SAN LUIS POTOSI\, SLP\, Mexico
CATEGORIES:COMEDIA
ATTACH;FMTTYPE=image/jpeg:https://gentesanluis.com/wp-content/uploads/2024/11/ari-telch-en-san-luis-potosi-2024.jpg
END:VEVENT
BEGIN:VEVENT
DTSTART;TZID=America/Mexico_City:20241206T210000
DTEND;TZID=America/Mexico_City:20241206T230000
DTSTAMP:20260421T152741
CREATED:20240911T204758Z
LAST-MODIFIED:20240911T204758Z
UID:1547-1733518800-1733526000@gentesanluis.com
SUMMARY:Kudai en San Luis Potosí
DESCRIPTION:Kudai en San Luis Potosí\n6 de Diciembre del 2024 \n9pm en la Cineteca Alameda \nBoletos por Arema Ticket
URL:https://gentesanluis.com/event/kudai-en-san-luis-potosi/
LOCATION:CINETECA ALAMEDA\, Avenida Universidad 575\, SAN LUIS POTOSI\, SLP\, Mexico
CATEGORIES:Concierto
ATTACH;FMTTYPE=image/jpeg:https://gentesanluis.com/wp-content/uploads/2024/09/Kudai-en-San-Luis-Potosi.jpg
END:VEVENT
BEGIN:VEVENT
DTSTART;TZID=America/Mexico_City:20250124T080000
DTEND;TZID=America/Mexico_City:20250124T170000
DTSTAMP:20260421T152741
CREATED:20241231T230228Z
LAST-MODIFIED:20241231T230228Z
UID:1650-1737705600-1737738000@gentesanluis.com
SUMMARY:The Beatles interpretado por The Breetles
DESCRIPTION:The Beatles interpretado por The Breetles \n24 de Enero del 2025 \nTeatro Polivalente \n  \nBoletos por VIPTICKET
URL:https://gentesanluis.com/event/the-beatles-interpretado-por-the-breetles/
LOCATION:Teatro Polivalente\, San Luis Potosí\, Mexico
CATEGORIES:Concierto
ATTACH;FMTTYPE=image/jpeg:https://gentesanluis.com/wp-content/uploads/2024/12/The-Beatles-interpretado-por-The-Breetles.jpg
END:VEVENT
BEGIN:VEVENT
DTSTART;TZID=America/Mexico_City:20250128T190000
DTEND;TZID=America/Mexico_City:20250128T190000
DTSTAMP:20260421T152741
CREATED:20250104T041517Z
LAST-MODIFIED:20250104T041517Z
UID:1654-1738090800-1738090800@gentesanluis.com
SUMMARY:Yo Miento\, Tú Mientes\, Todos Mentimos en SLP
DESCRIPTION:Yo Miento\, Tú Mientes\, Todos Mentimos en SLP\nTeatro de la Paz \n28 de Enero del 2025 \n2 funciones: 7:00 y 9:15 PM \nsuperboletos: https://bit.ly/3BwhOPg
URL:https://gentesanluis.com/event/yo-miento-tu-mientes-todos-mentimos-en-slp/
LOCATION:TEATRO DE LA PAZ\, Villerias 205\, Centro Historico\, SAN LUIS POTOSI\, SLP\, Mexico
CATEGORIES:TEATRO
ATTACH;FMTTYPE=image/jpeg:https://gentesanluis.com/wp-content/uploads/2025/01/Yo-Miento-Tu-Mientes-Todos-Mentimos.jpg
END:VEVENT
BEGIN:VEVENT
DTSTART;TZID=America/Mexico_City:20250131T210000
DTEND;TZID=America/Mexico_City:20250131T233000
DTSTAMP:20260421T152741
CREATED:20250112T043956Z
LAST-MODIFIED:20250112T043956Z
UID:1658-1738357200-1738366200@gentesanluis.com
SUMMARY:El Malilla en SLP 2025
DESCRIPTION:El Malilla en SLP 2025\nSe presenta en la Cineteca Alameda \n31 de Enero del 2025 a las 9pm \nBoletos por Ticketmania \nCosto de boletos : \nVIP: $896.00 (MX $800.00 + MX $96.00 Cargo por servicio de reservación no reembolsable).\nPreferente: $896.00 (MX $800.00 + MX $96.00 Cargo por servicio de reservación no reembolsable).\nPlanta Alta: $672.00 (MX $600.00 + MX $72.00 Cargo por servicio de reservación no reembolsable).
URL:https://gentesanluis.com/event/el-malilla-en-slp-2025/
LOCATION:CINETECA ALAMEDA\, Avenida Universidad 575\, SAN LUIS POTOSI\, SLP\, Mexico
CATEGORIES:Concierto
ATTACH;FMTTYPE=image/jpeg:https://gentesanluis.com/wp-content/uploads/2025/01/El-Malilla-en-SLP-2025.jpg
END:VEVENT
BEGIN:VEVENT
DTSTART;TZID=America/Mexico_City:20250201T200000
DTEND;TZID=America/Mexico_City:20250201T200000
DTSTAMP:20260421T152741
CREATED:20241121T182554Z
LAST-MODIFIED:20241121T183005Z
UID:1594-1738440000-1738440000@gentesanluis.com
SUMMARY:Jorge Medina y  Josi Cuen en SLP
DESCRIPTION:Jorge Medina y Josi Cuen en SLP\nShow 360° \nEvento en la Arena Potosí \nBoletos por Smarticket \nCosto de Boletos : \n\n\n\n\n\nDIAMANTE                   $2\,800.00\n\n\n\n\n\n\n\nPLATEA F                      $1\,300.00\n\n\n\n\n\n\n\nPREFERENTE A          $500.00\n\n\n\n\n\n\n\nBUTACA B                    $300.00\n\n\n\n\n\n\n\nPLATEA A                     $1\,300.00\n\n\n\n\n\n\n\nVIP                                 $2\,400.00\n\n\n\n\n\n\n\nBRONCE E                   $1\,000.00\n\n\n\n\n\n\n\nBUTACA C                    $300.00\n\n\n\n\n\n\n\nORO                              $2\,000.00\n\n\n\n\n\n\n\nBRONCE B                 $1\,000.00\n\n\n\n\n\n\n\nBUTACA D                 $300.00\n\n\n\n\n\n\n\nBRONCE D                $1\,000.00\n\n\n\n\n\n\n\nBUTACA  E               $300.00\n\n\n\n\n\n\n\nBRONCE C               $1\,000.00\n\n\n\n\n\n\n\nBUTACA F                $300.00\n\n\n\n\n\n\n\nBUTACA G               $300.00\n\n\n\n\n\n\n\nPLATA                       $1\,500.00\n\n\n\n\n\n\n\nBUTACA H               $300.00\n\n\n\n\n\n\n\nBUTACA I                $300.00\n\n\n\n\n\n\n\nPREFERENTE J     $500.00
URL:https://gentesanluis.com/event/jorge-medina-y-josi-cuen-en-slp/
LOCATION:Arena Potosi\, Av. Simón Díaz 245\, Satélite\, San Luis Potosí\, San Luis Potosí\, San Luis Potosí\, Mexico
CATEGORIES:Concierto
ATTACH;FMTTYPE=image/jpeg:https://gentesanluis.com/wp-content/uploads/2024/11/Jorge-Medina-y-Josi-Cuen-en-SLP.jpg
END:VEVENT
BEGIN:VEVENT
DTSTART;TZID=America/Mexico_City:20250209T170000
DTEND;TZID=America/Mexico_City:20250209T230000
DTSTAMP:20260421T152741
CREATED:20241226T213432Z
LAST-MODIFIED:20241226T213432Z
UID:1640-1739120400-1739142000@gentesanluis.com
SUMMARY:No te vayas sin decir adiós en SLP
DESCRIPTION:No te vayas sin decir adiós en SLP\nNo te vayas sin decir adiós en SLP este 9 de Febrero en el Teatro de la Paz \, \ncon 2 funciones : 5:00 pm y 7:15 pm \nboletos por Arema Ticket \nPrecios (Más cargos por servicio): \nLuneta: $1\,200 \nPrimer Piso: $950 \nBalcón: $750 \nDURACION: 80 MINUTOS \n 
URL:https://gentesanluis.com/event/no-te-vayas-sin-decir-adios-en-slp/
LOCATION:TEATRO DE LA PAZ\, Villerias 205\, Centro Historico\, SAN LUIS POTOSI\, SLP\, Mexico
CATEGORIES:TEATRO
ATTACH;FMTTYPE=image/jpeg:https://gentesanluis.com/wp-content/uploads/2024/12/No-te-vayas-sin-decir-adios-en-SLP.jpg
END:VEVENT
BEGIN:VEVENT
DTSTART;TZID=America/Mexico_City:20250221T200000
DTEND;TZID=America/Mexico_City:20250221T230000
DTSTAMP:20260421T152741
CREATED:20241103T194559Z
LAST-MODIFIED:20241103T194559Z
UID:1584-1740168000-1740178800@gentesanluis.com
SUMMARY:Chayanne en San Luis Potosí 2025
DESCRIPTION:Chayanne en San Luis Potosí\nTour Bailemos otra vez \nEste 21 de Febrero del 2025 \nen la Arena Potosí \nBoletos por Ticketmaster
URL:https://gentesanluis.com/event/chayanne-en-san-luis-potosi-2025/
LOCATION:Arena Potosi\, Av. Simón Díaz 245\, Satélite\, San Luis Potosí\, San Luis Potosí\, San Luis Potosí\, Mexico
ATTACH;FMTTYPE=image/jpeg:https://gentesanluis.com/wp-content/uploads/2024/11/chayanne-en-slp.jpg
END:VEVENT
BEGIN:VEVENT
DTSTART;TZID=America/Mexico_City:20250227T200000
DTEND;TZID=America/Mexico_City:20250227T230000
DTSTAMP:20260421T152741
CREATED:20241212T150415Z
LAST-MODIFIED:20241212T150415Z
UID:1611-1740686400-1740697200@gentesanluis.com
SUMMARY:Miranda en San Luis Potosí 2025
DESCRIPTION:Miranda en San Luis Potosí 2025\nEste 27 de Febrero en el Teatro de la Ciudad del Parque Tangamanga 1 \nVenta General: 12 de diciembre\n🛒 Arema Ticket\n🔗 https://arema.mx/
URL:https://gentesanluis.com/event/miranda-en-san-luis-potosi-2025/
LOCATION:TEATRO DE LA CIUDAD PARQUE TANGAMANGA 1\, Av. Salvador Nava Martínez\, Parque Tangamanga I\, SLP\, SLP\, Mexico
CATEGORIES:Concierto
ATTACH;FMTTYPE=image/jpeg:https://gentesanluis.com/wp-content/uploads/2024/12/miranda-en-slp-2025.jpg
END:VEVENT
BEGIN:VEVENT
DTSTART;TZID=America/Mexico_City:20250301T200000
DTEND;TZID=America/Mexico_City:20250301T230000
DTSTAMP:20260421T152741
CREATED:20241105T195914Z
LAST-MODIFIED:20241105T195914Z
UID:1587-1740859200-1740870000@gentesanluis.com
SUMMARY:Latin Mafia en San Luis Potosí
DESCRIPTION:Latin Mafia traerá su nueva gira a San Luis Potosí.\n¡TE ODIO Y TE EXTRAÑO MUCHO!  \nEl Domo \n1o de Marzo del 2025 \nGranVentaHSBC: 4 y 5 de noviembre.
URL:https://gentesanluis.com/event/latin-mafia-en-san-luis-potosi/
LOCATION:El Domo San Luis\, Francisco Martínez de La Vega 372\, Satelite\, San Luis Potosí\, San Luis Potosí\, Mexico
CATEGORIES:Concierto
ATTACH;FMTTYPE=image/jpeg:https://gentesanluis.com/wp-content/uploads/2024/11/Latin-Mafia-en-San-Luis-Potosi.jpg
END:VEVENT
END:VCALENDAR