BEGIN:VCALENDAR
VERSION:2.0
PRODID:-//Gente San Luis - ECPv6.15.20//NONSGML v1.0//EN
CALSCALE:GREGORIAN
METHOD:PUBLISH
X-WR-CALNAME:Gente San Luis
X-ORIGINAL-URL:https://gentesanluis.com
X-WR-CALDESC:Eventos para Gente San Luis
REFRESH-INTERVAL;VALUE=DURATION:PT1H
X-Robots-Tag:noindex
X-PUBLISHED-TTL:PT1H
BEGIN:VTIMEZONE
TZID:America/Mexico_City
BEGIN:STANDARD
TZOFFSETFROM:-0600
TZOFFSETTO:-0600
TZNAME:CST
DTSTART:20240101T000000
END:STANDARD
END:VTIMEZONE
BEGIN:VEVENT
DTSTART;TZID=America/Mexico_City:20250418T200000
DTEND;TZID=America/Mexico_City:20250418T233000
DTSTAMP:20260422T235613
CREATED:20250404T162256Z
LAST-MODIFIED:20250404T162256Z
UID:1713-1745006400-1745019000@gentesanluis.com
SUMMARY:Procesión del Silencio San Luis Potosi 2025
DESCRIPTION:Procesión del Silencio San Luis Potosi 2025\nViernes 18 de Abril del 2025 \nInicia 8pm \n \n\n\n\nAcceso Gratuito.\n\n\nRenta de Sillas por Superboletos :\n\n\nBlanca A MXN $297\n\n\n\n\n\n\n\n\n\nBlanca AA MXN $297\n\n\n\n\n\n\n\n\n\nVerde B MXN $187\n\n\n\n\n\n\n\n\n\nVerde BB MXN $187\n\n\n\n\n\n\n\n\n\nMorada II MXN $132\n\n\n\n\n\n\n\n\n\nRosa C MXN $132\n\n\n\n\n\n\n\n\n\nRosa CC MXN $132\n\n\n\n\n\n\n\n\n\nLimon D MXN $132\n\n\n\n\n\n\n\n\n\nLimon DD MXN $132\n\n\n\n\n\n\n\nAzul E MXN $132\n\n\n\n\n\n\n\n\n\nRoja G MXN $132\n\n\n\n\n\n\n\nRoja GG MXN $132\n\n\n\n\n\n\n\n\n\nNaranja H MXN $132\n\n\n\n\n\n\n\n\n\nMorada I MXN $132\n\n\n\n\n\n\n\n\n\nAzul EE MXN $132\n\n\n\n\n\n\n\n\n\nAmarilla F MXN $132\n\n\n\n\n\n\n\n\n\nAmarilla FF MXN $132\n\n\n\n\n\n\n\n\n\nNaranja HH MXN $132\n\n\n\n\n\n\n\n\n\nIndependencia 1 MXN $77\n\n\n\n\n\n\n\n\n\nIndependencia 2 MXN $77\n\n\n\n 
URL:https://gentesanluis.com/event/procesion-del-silencio-san-luis-potosi-2025/
LOCATION:TEATRO DE LA PAZ\, Villerias 205\, Centro Historico\, SAN LUIS POTOSI\, SLP\, Mexico
ATTACH;FMTTYPE=image/jpeg:https://gentesanluis.com/wp-content/uploads/2025/04/Procesion-del-Silencio-San-Luis-Potosi-2025.jpg
END:VEVENT
BEGIN:VEVENT
DTSTART;TZID=America/Mexico_City:20250425T210000
DTEND;TZID=America/Mexico_City:20250425T233000
DTSTAMP:20260422T235613
CREATED:20250420T192713Z
LAST-MODIFIED:20250420T192713Z
UID:1735-1745614800-1745623800@gentesanluis.com
SUMMARY:José Madero en SLP 2025
DESCRIPTION:José Madero en San Luis Potosí 2025\nTeatro de la Paz \n25 de Abril \, 9 pm \nBoletos en Taquillas del Teatro y por Ticketmania \nPrecios:\nLuneta 1: $1\,792.00 (MX $1\,600.00+ MX $192.00 Cargo por servicio de reservación no reembolsable).\nLuneta 2: $1\,456.00 (MX $1\,300.00+ MX $156.00 Cargo por servicio de reservación no reembolsable).\nPrimer piso: $1\,120.00 (MX $1\,000.00+ MX $120.00 Cargo por servicio de reservación no reembolsable).\nBalcón: $1\,008.00 (MX $900.00+ MX $108.00 Cargo por servicio de reservación no reembolsable). \n 
URL:https://gentesanluis.com/event/jose-madero-en-slp-2025/
LOCATION:TEATRO DE LA PAZ\, Villerias 205\, Centro Historico\, SAN LUIS POTOSI\, SLP\, Mexico
CATEGORIES:Concierto
ATTACH;FMTTYPE=image/jpeg:https://gentesanluis.com/wp-content/uploads/2025/04/Jose-Madero-en-SLP-2025.jpg
END:VEVENT
BEGIN:VEVENT
DTSTART;TZID=America/Mexico_City:20250426T200000
DTEND;TZID=America/Mexico_City:20250426T233000
DTSTAMP:20260422T235613
CREATED:20241217T181114Z
LAST-MODIFIED:20241217T181114Z
UID:1628-1745697600-1745710200@gentesanluis.com
SUMMARY:Banda MS en SLP 2025
DESCRIPTION:Banda MS en SLP 2025\nBanda MS en El Domo San Luis \n26 de Abril del 2025
URL:https://gentesanluis.com/event/banda-ms-en-slp-2025/
LOCATION:EL DOMO SAN LUIS\, Francisco Martínez de La Vega 372\, Satelite Francisco I. Madero 2\, SAN LUIS POTOSI\, SLP\, Mexico
CATEGORIES:Concierto
ATTACH;FMTTYPE=image/jpeg:https://gentesanluis.com/wp-content/uploads/2024/12/Banda-MS-en-SLP-2025.jpg
END:VEVENT
BEGIN:VEVENT
DTSTART;TZID=America/Mexico_City:20250503T210000
DTEND;TZID=America/Mexico_City:20250503T230000
DTSTAMP:20260422T235613
CREATED:20250214T205009Z
LAST-MODIFIED:20250214T205009Z
UID:1674-1746306000-1746313200@gentesanluis.com
SUMMARY:Pedro Fernández en SLP
DESCRIPTION:Pedro Fernández SLP 2025\neste 3 de Mayo 9pm en El Domo de San Luis . \nBoletos a la venta por Top Tickets \nBoletos : \nRuedo Diamante : $2\,000.00 + $283.60 Cargo por servicio \nRuedo VIP : $1\,500.00 + $212.70 Cargo por servicio \nBarrera : $1\,000.00 + $141.80 Cargo por servicio \nTendido: $700.00 + $99.26 Cargo por servicio \nButaca numerada : $500.00 + $70.90 Cargo por servicio
URL:https://gentesanluis.com/event/pedro-fernandez-en-slp/
LOCATION:El Domo San Luis\, Francisco Martínez de La Vega 372\, Satelite\, San Luis Potosí\, San Luis Potosí\, Mexico
CATEGORIES:Concierto
ATTACH;FMTTYPE=image/jpeg:https://gentesanluis.com/wp-content/uploads/2025/02/Pedro-Fernandez-en-SLP.jpg
END:VEVENT
BEGIN:VEVENT
DTSTART;TZID=America/Mexico_City:20250510T210000
DTEND;TZID=America/Mexico_City:20250510T230000
DTSTAMP:20260422T235613
CREATED:20250214T205600Z
LAST-MODIFIED:20250214T205600Z
UID:1677-1746910800-1746918000@gentesanluis.com
SUMMARY:Mercurio en SLP 2025
DESCRIPTION:Mercurio en SLP 2025\nEste 10 de Mayo en la Cineteca Alameda \, 9 pm \n  \nboletos a la venta por Arema Ticket \n 
URL:https://gentesanluis.com/event/mercurio-en-slp-2025/
LOCATION:CINETECA ALAMEDA\, Avenida Universidad 575\, SAN LUIS POTOSI\, SLP\, Mexico
CATEGORIES:Concierto
ATTACH;FMTTYPE=image/jpeg:https://gentesanluis.com/wp-content/uploads/2025/02/Mercurio-en-SLP-2025.jpg
END:VEVENT
BEGIN:VEVENT
DTSTART;TZID=America/Mexico_City:20250516T200000
DTEND;TZID=America/Mexico_City:20250516T233000
DTSTAMP:20260422T235613
CREATED:20241220T202256Z
LAST-MODIFIED:20250430T204535Z
UID:1632-1747425600-1747438200@gentesanluis.com
SUMMARY:Caifanes en SLP 2025
DESCRIPTION:Caifanes en SLP 2025\nCaifanes en San Luis Potosí este 16 de Mayo del 2025 \noriginalmente en El Domo San Luis \, se cambio el evento  al Teatro de la Ciudad del Parque Tangamanga 2 \nBoletos ya a al venta por Arema Ticket \nCosto boletos Caifanes : \nRuedo Vip: $1\,850 \nBarrera: $1\,450 \nTendido: $895 \nButaca: $595 \n 
URL:https://gentesanluis.com/event/caifanes-en-slp-2025/
LOCATION:Teatro de la Ciudad del Parque Tangamanga 2\, Mexico
CATEGORIES:Concierto
ATTACH;FMTTYPE=image/jpeg:https://gentesanluis.com/wp-content/uploads/2024/12/Caifanes-en-SLP-2025.jpg
END:VEVENT
BEGIN:VEVENT
DTSTART;TZID=America/Mexico_City:20250516T203000
DTEND;TZID=America/Mexico_City:20250516T230000
DTSTAMP:20260422T235613
CREATED:20250430T204313Z
LAST-MODIFIED:20250430T204313Z
UID:1746-1747427400-1747436400@gentesanluis.com
SUMMARY:Lago de los Cisnes en SLP 2025
DESCRIPTION:Lago de los Cisnes en SLP 2025\n16 de Mayo 8:30 pm \nCentro Cultural Universitario Bicentenario(CC200) \na la venta por Superboletos \n\n\n\nPreferente A MXN $1\,100\n\n\n\n\n\n\nPreferente B MXN $1\,045\n\n\n\n\n\n\nLuneta A MXN $880\n\n\n\n\n\n\nLuneta B MXN $825\n\n\n\n\n\n\nPrimer Piso A MXN $715\nPrimer Piso BMXN $605\n\n\n\n\n\n\nPrimer Piso C MXN $550
URL:https://gentesanluis.com/event/lago-de-los-cisnes-en-slp-2025/
LOCATION:CC200
CATEGORIES:TEATRO
ATTACH;FMTTYPE=image/jpeg:https://gentesanluis.com/wp-content/uploads/2025/04/lago-de-los-cisnes-en-slp-2025.jpg
END:VEVENT
BEGIN:VEVENT
DTSTART;TZID=America/Mexico_City:20250523T200000
DTEND;TZID=America/Mexico_City:20250523T230000
DTSTAMP:20260422T235613
CREATED:20241010T215537Z
LAST-MODIFIED:20241231T044418Z
UID:1559-1748030400-1748041200@gentesanluis.com
SUMMARY:Jesse and Joy en San Luis Potosí 2025
DESCRIPTION:Jesse and Joy en San Luis Potosí 2025\nEn el Domo San Luis \n23 de Mayo del 2025 \nBoletos por : Superboletos \nPreventa Santander 13 al 17 de Octubre \n  \nCosto de Boletos: \n\n\nRuedo VIP 1 MXN $2\,420\n\n\nRuedo VIP Lateral 1 MXN $2\,420\n\n\n\n\n\nRuedo VIP 2 MXN $2\,420\n\n\n\n\n\n\nRuedo VIP 3 MXN $2\,420\n\n\n\n\n\n\nRuedo Platino MXN $1\,760\n\n\n\n\n\nBarrera MXN $1\,320\n\n\n\n\n\nBarrera VL MXN $1\,100\n\n\n\n\n\n\nTendido MXN $990\n\n\n\n\n\n\nTendido VL MXN $770\n\n\n\n\n\n\nGeneral VL MXN $495\n\n\n\n\n\n\nGeneral MXN $495
URL:https://gentesanluis.com/event/jesse-and-joy-en-san-luis-potosi-2025/
LOCATION:El Domo San Luis\, Francisco Martínez de La Vega 372\, Satelite\, San Luis Potosí\, San Luis Potosí\, Mexico
CATEGORIES:Concierto
ATTACH;FMTTYPE=image/jpeg:https://gentesanluis.com/wp-content/uploads/2024/10/jesse-and-joy-en-san-luis-potosi-2025.jpg
END:VEVENT
BEGIN:VEVENT
DTSTART;TZID=America/Mexico_City:20250523T203000
DTEND;TZID=America/Mexico_City:20250523T230000
DTSTAMP:20260422T235613
CREATED:20250114T193908Z
LAST-MODIFIED:20250114T193908Z
UID:1661-1748032200-1748041200@gentesanluis.com
SUMMARY:El Buki en Arena San Luis Potosí
DESCRIPTION:El Buki en Arena San Luis Potosí\n\n23 de Mayo del 2025 en la Arena Potosí\n\nPREVENTA HSBC\n\n\nBoletos del Buki en SLP por ETICKET:\n\nDIAMANTE  $5\,545.00\n\n\nPLATINO  $5\,075.00\n\n\nORO  $4\,365.00\n\n\nPLATA $3\,186.00\n\n\nGENERAL DE PIE $1\,060.00\n\n\nNIVEL 1 $2\,480.00\n\n\nISLAS $1\,770.00\n\n\nNIVEL 3 $1\,180.00\n\n\nPERS. CON DISCAPACIDAD $1\,180.00
URL:https://gentesanluis.com/event/el-buki-en-arena-san-luis-potosi/
LOCATION:Arena Potosi\, Av. Simón Díaz 245\, Satélite\, San Luis Potosí\, San Luis Potosí\, San Luis Potosí\, Mexico
CATEGORIES:Concierto
ATTACH;FMTTYPE=image/jpeg:https://gentesanluis.com/wp-content/uploads/2025/01/Marco-Antonio-Solis-el-BUKI-en-SLP.jpg
END:VEVENT
BEGIN:VEVENT
DTSTART;TZID=America/Mexico_City:20250523T210000
DTEND;TZID=America/Mexico_City:20250523T233000
DTSTAMP:20260422T235613
CREATED:20250419T060707Z
LAST-MODIFIED:20250419T060707Z
UID:1722-1748034000-1748043000@gentesanluis.com
SUMMARY:Franco Escamilla en SLP 2025
DESCRIPTION:Franco Escamilla en SLP 2025\nTeatro de la Ciudad del Parque Tangamanga 2 \nFecha: 23 de mayo 2025 \nHora: 9:00 pm \nBoletos por Arema Ticket \nPrecios (Más cargo por servicio): \nVip Centro: $1800 \nVip  Lateral: $1700 \nOro Centro: $1500 \nOro Lateral: $1350 \nPlata Centro: $900 \nPlata Lateral: $700 \n  \nhttps://arema.mx/e/14234
URL:https://gentesanluis.com/event/franco-escamilla-en-slp-2025/
LOCATION:Teatro de la Ciudad del Parque Tangamanga 2\, Mexico
CATEGORIES:COMEDIA
ATTACH;FMTTYPE=image/jpeg:https://gentesanluis.com/wp-content/uploads/2025/04/Franco-escamilla-en-SLP-2025.jpg
END:VEVENT
BEGIN:VEVENT
DTSTART;TZID=America/Mexico_City:20250531T200000
DTEND;TZID=America/Mexico_City:20250531T230000
DTSTAMP:20260422T235613
CREATED:20250217T162526Z
LAST-MODIFIED:20250217T162538Z
UID:1680-1748721600-1748732400@gentesanluis.com
SUMMARY:Napoleón Sinfónico en SLP
DESCRIPTION:Napoleón Sinfónico en SLP\n31 de Mayo en el Domo San Luis \nCosto de Boletos : \nRUEDO DIAMANTE $2\,750.00 + $389.95 Cargo por servicio \nRUEDO VIP $2\,500.00 + $354.50 Cargo por servicio \nBARRERA $1\,800.00 + $257.24 Cargo por servicio \nBUTACA NUMERADA $500.00 + $70.90 Cargo por servicio \n  \nAdquiere tus boletos : \nhttps://toptickets.pagatusboletos.com/venta/es/comprarEvento?idEvento=3754
URL:https://gentesanluis.com/event/napoleon-sinfonico-en-slp/
LOCATION:El Domo San Luis\, Francisco Martínez de La Vega 372\, Satelite\, San Luis Potosí\, San Luis Potosí\, Mexico
CATEGORIES:Concierto
ATTACH;FMTTYPE=image/jpeg:https://gentesanluis.com/wp-content/uploads/2025/02/Napoleon-sinfonico-en-SLP.jpg
END:VEVENT
BEGIN:VEVENT
DTSTART;TZID=America/Mexico_City:20250531T210000
DTEND;TZID=America/Mexico_City:20250531T230000
DTSTAMP:20260422T235613
CREATED:20250420T202819Z
LAST-MODIFIED:20250420T202819Z
UID:1738-1748725200-1748732400@gentesanluis.com
SUMMARY:Somos Novios San Luis Potosí 2025
DESCRIPTION:Somos Novios San Luis Potosí 2025\nTeatro de la Paz\n31 de Mayo 20:00 Hrs. \nBoletos por Superboletos \n\n\n\nLuneta 1 MXN $1\,680\n\n\n\n\n\n\nLuneta 2 MXN $1\,456\n\n\n\n\n\n\nPrimer Piso MXN $1\,008\n\n\n\n\n\n\nBalcon MXN $672
URL:https://gentesanluis.com/event/somos-novios-san-luis-potosi-2025/
LOCATION:TEATRO DE LA PAZ\, Villerias 205\, Centro Historico\, SAN LUIS POTOSI\, SLP\, Mexico
CATEGORIES:TEATRO
ATTACH;FMTTYPE=image/jpeg:https://gentesanluis.com/wp-content/uploads/2025/04/Somos-Novios-San-Luis-Potosi-2025.jpg
END:VEVENT
BEGIN:VEVENT
DTSTART;TZID=America/Mexico_City:20250531T213000
DTEND;TZID=America/Mexico_City:20250531T233000
DTSTAMP:20260422T235613
CREATED:20250328T151943Z
LAST-MODIFIED:20250328T151943Z
UID:1690-1748727000-1748734200@gentesanluis.com
SUMMARY:Fernando Delgadillo y Alejandro Filio en SLP
DESCRIPTION:Fernando Delgadillo y Alejandro Filio en San Luis Potosí\n\nSalon Rio 31 MAYO 21:30 hrs \nUn evento de La Maraka Producciones\nServicio hasta tu mesa (alimentos y bebidas)\nValet Parking \nBoletos: \nVIP:  $1\,100 mxn\nGeneral: $700 mxn \nEste evento permite el ingreso de adolescentes en compañía de un adulto \nEl formato de este concierto es en mesas para 4 personas\nAcceso: 8:00 pm\nInicio del Show: 9:30 pm \n  \nBoletos : \nhttps://tickets.lamaraka.com.mx/events/fernando-delgadillo-y-alejandro-filio-slp
URL:https://gentesanluis.com/event/fernando-delgadillo-y-alejandro-filio-en-slp/
LOCATION:Salón Río
CATEGORIES:Concierto
ATTACH;FMTTYPE=image/jpeg:https://gentesanluis.com/wp-content/uploads/2025/03/fernando-delgadillo.jpg
END:VEVENT
BEGIN:VEVENT
DTSTART;TZID=America/Mexico_City:20250614T190000
DTEND;TZID=America/Mexico_City:20250614T233000
DTSTAMP:20260422T235613
CREATED:20250527T140927Z
LAST-MODIFIED:20250527T140927Z
UID:1806-1749927600-1749943800@gentesanluis.com
SUMMARY:Lacrimosa en SLP 2025
DESCRIPTION:Lacrimosa en SLP 2025\nLacrimosa en San Luis Potosí este 14 de Junio del 2025 \, 7 pm \nSe presenta en el Centro de las Artes de SLP \nBoletos a la venta para Lacrimosa por Cantodea Producciones \n  \n\n\n\nPreferente\n$ 1\,200.00Por asiento\n\n\nGeneral\n$ 1\,000.00Por asiento
URL:https://gentesanluis.com/event/lacrimosa-en-slp-2025/
LOCATION:CENTRO DE LAS ARTES SLP\, Calz de Guadalupe 705\, San Juan de Guadalupe\, Julian Carrillo\, SAN LUIS POTOSI\, SLP\, Mexico
CATEGORIES:Concierto
ATTACH;FMTTYPE=image/jpeg:https://gentesanluis.com/wp-content/uploads/2025/05/Lacrimosa-en-SLP-2025.jpg
END:VEVENT
BEGIN:VEVENT
DTSTART;TZID=America/Mexico_City:20250614T200000
DTEND;TZID=America/Mexico_City:20250614T220000
DTSTAMP:20260422T235613
CREATED:20250220T184637Z
LAST-MODIFIED:20250220T184655Z
UID:1683-1749931200-1749938400@gentesanluis.com
SUMMARY:Lacrimosa SLP 2025
DESCRIPTION:Lacrimosa SLP 2025\nEste 14 de Junio del 2025 en el Centro de las Artes \, \nBoletos por Cantodea Producciones .
URL:https://gentesanluis.com/event/lacrimosa-slp-2025/
LOCATION:CENTRO DE LAS ARTES SLP\, Calz de Guadalupe 705\, San Juan de Guadalupe\, Julian Carrillo\, SAN LUIS POTOSI\, SLP\, Mexico
CATEGORIES:Concierto
ATTACH;FMTTYPE=image/jpeg:https://gentesanluis.com/wp-content/uploads/2025/02/Lacrimosa-SLP-2025.jpg
END:VEVENT
BEGIN:VEVENT
DTSTART;TZID=America/Mexico_City:20250614T200000
DTEND;TZID=America/Mexico_City:20250614T233000
DTSTAMP:20260422T235613
CREATED:20250520T144514Z
LAST-MODIFIED:20250520T144514Z
UID:1762-1749931200-1749943800@gentesanluis.com
SUMMARY:Matute en SLP 2025
DESCRIPTION:Matute en SLP 2025\n14 de Junio en la Arena Potosí \nBoletos para Matute en smarticket : \nhttps://smarticket.pagatusboletos.com/tickets/es/comprarEvento?idEvento=3864
URL:https://gentesanluis.com/event/matute-en-slp-2025/
LOCATION:SLP
CATEGORIES:Concierto
ATTACH;FMTTYPE=image/jpeg:https://gentesanluis.com/wp-content/uploads/2025/05/Matute-en-SLP-2025.jpg
END:VEVENT
BEGIN:VEVENT
DTSTART;TZID=America/Mexico_City:20250614T213000
DTEND;TZID=America/Mexico_City:20250614T233000
DTSTAMP:20260422T235613
CREATED:20250328T192146Z
LAST-MODIFIED:20250328T192146Z
UID:1697-1749936600-1749943800@gentesanluis.com
SUMMARY:Jorge Coque Muñiz y Jo Jorge Falcón en San Luis Potosí
DESCRIPTION:Jorge Coque Muñiz y Jo Jorge Falcón en San Luis Potosí\nJunio 14 en el Salón Río \n  \nPrecios\nVIP – $1\,600 MXN\nPreferente – $900 MXN\nGeneral – $600 MXN \n  \nVenta de boletos : https://tickets.lamaraka.com.mx/events/coque-muniz-y-jorge-falcon
URL:https://gentesanluis.com/event/jorge-coque-muniz-y-jo-jorge-falcon-en-san-luis-potosi/
LOCATION:Salón Río
CATEGORIES:Concierto
ATTACH;FMTTYPE=image/jpeg:https://gentesanluis.com/wp-content/uploads/2025/03/Jorge-Coque-Muniz-y-Jo-Jorge-Falcon-en-San-Luis.jpg
END:VEVENT
BEGIN:VEVENT
DTSTART;TZID=America/Mexico_City:20250620T180000
DTEND;TZID=America/Mexico_City:20250620T180000
DTSTAMP:20260422T235613
CREATED:20250214T184220Z
LAST-MODIFIED:20250214T184220Z
UID:1665-1750442400-1750442400@gentesanluis.com
SUMMARY:PERFUME DE GARDENIA SAN LUIS POTOSÍ 2025
DESCRIPTION:PERFUME DE GARDENIAS SAN LUIS POTOSÍ 2025\n  \nTeatro de la Paz \n20 de Junio del 2025 \n6 y 9:30 pm \nBoletos por Showticket \nhttps://www.showticket.com.mx/eventperformances.asp?evt=1643 \nARACELI ARAMBULA\nDAVID ZEPEDA / WILLIAM LEVY
URL:https://gentesanluis.com/event/perfume-de-gardenia-san-luis-potosi-2025/
LOCATION:TEATRO DE LA PAZ\, Villerias 205\, Centro Historico\, SAN LUIS POTOSI\, SLP\, Mexico
CATEGORIES:TEATRO
ATTACH;FMTTYPE=image/png:https://gentesanluis.com/wp-content/uploads/2025/02/PERFUME-DE-GARDENIA-SAN-LUIS-POTOSI-2025.png
END:VEVENT
BEGIN:VEVENT
DTSTART;TZID=America/Mexico_City:20250620T210000
DTEND;TZID=America/Mexico_City:20250620T233000
DTSTAMP:20260422T235613
CREATED:20250404T150559Z
LAST-MODIFIED:20250404T150559Z
UID:1703-1750453200-1750462200@gentesanluis.com
SUMMARY:Mike Salazar en San Luis Potosi 2025
DESCRIPTION:Mike Salazar en San Luis Potosi 2025\n20 de Junio 9pm \nen la Cineteca Alameda \nBoletos por Arema Ticket para Mike Salazar \nPrecios (Más cargos por servicio): \nVIP: $800 \nOro: $650 \nPlata: $550 \nPlatino 1: $450 \nPlatino 2: $400
URL:https://gentesanluis.com/event/mike-salazar-en-san-luis-potosi-2025/
LOCATION:CINETECA ALAMEDA\, Avenida Universidad 575\, SAN LUIS POTOSI\, SLP\, Mexico
CATEGORIES:COMEDIA
ATTACH;FMTTYPE=image/jpeg:https://gentesanluis.com/wp-content/uploads/2025/04/Mike-Salazar-en-San-Luis-Potosi-2025.jpg
END:VEVENT
BEGIN:VEVENT
DTSTART;TZID=America/Mexico_City:20250628T190000
DTEND;TZID=America/Mexico_City:20250628T233000
DTSTAMP:20260422T235613
CREATED:20250617T151126Z
LAST-MODIFIED:20250617T151126Z
UID:1864-1751137200-1751153400@gentesanluis.com
SUMMARY:Kinky y Sussie 4 en SLP 2025
DESCRIPTION:Kinky y Sussie 4 en SLP 2025\n28 junio 2025 a las 7:00 PM  \n Teatro de la ciudad del Tangamanga 1 en SLP \nBoletos por : ticketmania
URL:https://gentesanluis.com/event/kinky-y-sussie-4-en-slp-2025/
LOCATION:TEATRO DE LA CIUDAD PARQUE TANGAMANGA 1\, Av. Salvador Nava Martínez\, Parque Tangamanga I\, SLP\, SLP\, Mexico
CATEGORIES:Concierto
ATTACH;FMTTYPE=image/jpeg:https://gentesanluis.com/wp-content/uploads/2025/06/Kinky-y-Sussie-4-en-SLP-2025.jpg
END:VEVENT
BEGIN:VEVENT
DTSTART;TZID=America/Mexico_City:20250628T210000
DTEND;TZID=America/Mexico_City:20250628T233000
DTSTAMP:20260422T235613
CREATED:20250616T031522Z
LAST-MODIFIED:20250616T031522Z
UID:1856-1751144400-1751153400@gentesanluis.com
SUMMARY:DUELO DE ACORDEONES en SLP 2025
DESCRIPTION:DUELO DE ACORDEONES en SLP 2025\nSábado\, 28 de junio de 2025 21:00 \nPALENQUE DE LA FENAPO \nBoletos por:  SMARTICKET \nLocalidades : \n\n\n\n\n\nDIAMANTE   $2\,500.00\n\n\n\n\n\n\n\nVIP  $2\,200.00\n\n\n\n\n\n\n\nDORADA  $1\,900.00\n\n\n\n\n\n\n\nPREFERENTE $1\,600.00\n\n\n\n\n\n\n\nGENERAL $500.00
URL:https://gentesanluis.com/event/duelo-de-acordeones-en-slp-2025/
LOCATION:Palenque FENAPO
CATEGORIES:Concierto
ATTACH;FMTTYPE=image/jpeg:https://gentesanluis.com/wp-content/uploads/2025/06/DUELO-DE-ACORDEONES-en-SLP-2025.jpg
END:VEVENT
BEGIN:VEVENT
DTSTART;TZID=America/Mexico_City:20250719T200000
DTEND;TZID=America/Mexico_City:20250719T200000
DTSTAMP:20260422T235613
CREATED:20250404T165136Z
LAST-MODIFIED:20250404T165136Z
UID:1716-1752955200-1752955200@gentesanluis.com
SUMMARY:PANTEÓN ROCOCÓ 30 ANIVERSARIO en SLP 2025
DESCRIPTION:PANTEÓN ROCOCÓ 30 ANIVERSARIO en SLP 2025\n19 de Julio\, 8pm en la Arena Potosí \nBoletos a la venta por Super boletos \n\n\n\nNivel 1 Preventa Fan MXN $952\n\n\n\n\n\n\n\n\n\nGeneral Preventa Fan MXN $840\n\n\n\n\n\n\n\nNivel 3 Preventa Fan MXN $560
URL:https://gentesanluis.com/event/panteon-rococo-30-aniversario-en-slp-2025/
LOCATION:Arena Potosi\, Av. Simón Díaz 245\, Satélite\, San Luis Potosí\, San Luis Potosí\, San Luis Potosí\, Mexico
CATEGORIES:Concierto
ATTACH;FMTTYPE=image/webp:https://gentesanluis.com/wp-content/uploads/2025/04/PANTEON-ROCOCO-30-ANIVERSARIO-en-SLP-2025.webp
END:VEVENT
BEGIN:VEVENT
DTSTART;TZID=America/Mexico_City:20250808T110000
DTEND;TZID=America/Mexico_City:20250808T233000
DTSTAMP:20260422T235613
CREATED:20250616T044806Z
LAST-MODIFIED:20250616T044806Z
UID:1858-1754650800-1754695800@gentesanluis.com
SUMMARY:LUPITA DALESSIO PALENQUE DE FENAPO 2025
DESCRIPTION:LUPITA DALESSIO PALENQUE DE FENAPO 2025\nSe presenta el 8 de Agosto del 2025 en el Palenque de FENAPO 2025 \nFeria Nacional Potosina 2025 \nBoletos por : smarticket \nACCESO 7:00 PM INICIO  11:00 PM
URL:https://gentesanluis.com/event/lupita-dalessio-palenque-de-fenapo-2025/
LOCATION:Palenque FENAPO
CATEGORIES:Concierto
ATTACH;FMTTYPE=image/jpeg:https://gentesanluis.com/wp-content/uploads/2025/06/LUPITA-DALESSIO-PALENQUE-DE-FENAPO-2025.jpg
END:VEVENT
BEGIN:VEVENT
DTSTART;TZID=America/Mexico_City:20250808T130000
DTEND;TZID=America/Mexico_City:20250831T233000
DTSTAMP:20260422T235613
CREATED:20250520T151718Z
LAST-MODIFIED:20250722T040515Z
UID:1765-1754658000-1756683000@gentesanluis.com
SUMMARY:Teatro del Pueblo FENAPO 2025
DESCRIPTION:Teatro del Pueblo FENAPO 2025\nFeria Nacional Potosina 2025 del 8 al 31 de Agosto \nArtistas  Teatro del Pueblo FENAPO 2025 \nViernes 8 de Agosto: DUELO.\nSábado 9 de Agosto: BANDA MS.\n Domingo 10 de Agosto: MARILYN MANSON.\n Lunes 11 de Agosto: BELINDA.\n Martes 12 de Agosto: BRONCO.\n Jueves 14 de Agosto: LOS ÁNGELES AZULES.\n Viernes 15 de Agosto: TIËSTO.\n Domingo 17 de Agosto: LOS TIGRES DEL NORTE.\n Martes 19 de Agosto: DON OMAR.\n Miércoles 20 de Agosto: BANDA MACHOS y MI BANDA EL MEXICANO.\n Jueves 21 de Agosto: REIK.\n Viernes 22 de Agosto: LA ARROLLADORA BANDA EL LIMÓN.\n Sábado 23 de Agosto: LOS INQUIETOS DEL NORTE y LOS HEREDEROS DE NUEVO LEÓN.\n Domingo 24 de Agosto: POTOSINAZO (Vagón Chicano\, Los Indomables de Cedral y Legítimo).\n Martes 26 de Agosto: LOS TUCANES DE TIJUANA.\n Miércoles 27 de Agosto: EL MALILLA.\n Jueves 28 de Agosto: POLYMARCHS.\n Viernes 29 de Agosto: ENRIQUE IGLESIAS.\n Sábado 30 de Agosto: MARCA REGISTRADA y VÍCTOR VALVERDE.\n Domingo 31 de Agosto: GRUPO FRONTERA.\n\nBoletos Terrazas FENAPO 2025\npor : https://slpfastticket.com/ListaEventos.aspx
URL:https://gentesanluis.com/event/teatro-del-pueblo-fenapo-2025/
LOCATION:Teatro del Pueblo FENAPO\, San Luis Potosí\, San Luis Potosí\, Mexico
CATEGORIES:FENAPO 2025
ATTACH;FMTTYPE=image/jpeg:https://gentesanluis.com/wp-content/uploads/2025/05/teatro-del-pueblo-fenapo-2025-1.jpg
END:VEVENT
BEGIN:VEVENT
DTSTART;TZID=America/Mexico_City:20250808T230000
DTEND;TZID=America/Mexico_City:20250831T233000
DTSTAMP:20260422T235613
CREATED:20250520T152303Z
LAST-MODIFIED:20250529T013739Z
UID:1768-1754694000-1756683000@gentesanluis.com
SUMMARY:Palenque FENAPO 2025
DESCRIPTION:Palenque FENAPO 2025\nFeria Nacional Potosina 2025 del 8 al 31 de Agosto \nArtistas Palenque  FENAPO 2025 \n\n8 Agosto Lupita DAlessio\n9 Agosto Palomazo norteño\n10 Agosto Gabito Ballesteros\n14 Agosto Ana Bárbara Martha Sánchez\, Fey\n15 Agosto Luís R\, Conriquez\n16 Agosto Emmanuel y Mijares\n17 Agosto Junior H.\n21 Agosto La Firma Y David Olivares\n22 Agosto María José\n23 Agosto Pesado\n27 Agosto Brincos Dieras\n28 Agosto Cristian Castro\n29 Agosto Conjunto Primavera\n30 y 31 agosto “Juntos “ Josi Cuen y Jorge Medina\n\n 
URL:https://gentesanluis.com/event/palenque-fenapo-2025/
LOCATION:Palenque FENAPO
CATEGORIES:FENAPO 2025
ATTACH;FMTTYPE=image/jpeg:https://gentesanluis.com/wp-content/uploads/2025/05/Palenque-FENAPO-2025-SLP.jpg
END:VEVENT
BEGIN:VEVENT
DTSTART;TZID=America/Mexico_City:20250809T220000
DTEND;TZID=America/Mexico_City:20250809T233000
DTSTAMP:20260422T235613
CREATED:20250621T184149Z
LAST-MODIFIED:20250621T184149Z
UID:1912-1754776800-1754782200@gentesanluis.com
SUMMARY:Pesado Palenque FENAPO 2025
DESCRIPTION:Pesado Palenque FENAPO 2025\nSe presentan el 9 de Agosto en el Palenque de la Feria Nacional Potosina \nBoletos a la venta por  :  smarticket
URL:https://gentesanluis.com/event/pesado-palenque-fenapo-2025/
LOCATION:Palenque FENAPO
CATEGORIES:Concierto
ATTACH;FMTTYPE=image/jpeg:https://gentesanluis.com/wp-content/uploads/2025/06/Pesado-Palenque-FENAPO-2025.jpg
END:VEVENT
BEGIN:VEVENT
DTSTART;TZID=America/Mexico_City:20250810T220000
DTEND;TZID=America/Mexico_City:20250810T233000
DTSTAMP:20260422T235613
CREATED:20250621T221338Z
LAST-MODIFIED:20250621T221338Z
UID:1915-1754863200-1754868600@gentesanluis.com
SUMMARY:Gabito Ballesteros en Palenque FENAPO SLP 2025
DESCRIPTION:Gabito Ballesteros en Palenque FENAPO SLP 2025\nSe presenta 10 de Agosto del 2025 en el Palenque de la Feria Nacional Potosina \nBoletos por : smarticket
URL:https://gentesanluis.com/event/gabito-ballesteros-en-palenque-fenapo-slp-2025/
LOCATION:Palenque FENAPO
CATEGORIES:Concierto
ATTACH;FMTTYPE=image/jpeg:https://gentesanluis.com/wp-content/uploads/2025/06/Gabito-Ballesteros-en-Palenque-FENAPO-SLP-2025.jpg
END:VEVENT
BEGIN:VEVENT
DTSTART;TZID=America/Mexico_City:20250813T220000
DTEND;TZID=America/Mexico_City:20250813T233000
DTSTAMP:20260422T235613
CREATED:20250621T221753Z
LAST-MODIFIED:20250621T221753Z
UID:1918-1755122400-1755127800@gentesanluis.com
SUMMARY:Brincos Dieras Palenque FENAPO 2025
DESCRIPTION:Brincos Dieras Palenque FENAPO 2025\nSe presenta el 13 de Agosto del 2025 en el Palenque de la Feria Nacional Potosina \nBoletos de venta en : smarticket
URL:https://gentesanluis.com/event/brincos-dieras-palenque-fenapo-2025/
LOCATION:Palenque FENAPO
CATEGORIES:Concierto
ATTACH;FMTTYPE=image/jpeg:https://gentesanluis.com/wp-content/uploads/2025/06/Brincos-Dieras-Palenque-FENAPO-2025.jpg
END:VEVENT
BEGIN:VEVENT
DTSTART;TZID=America/Mexico_City:20250814T200000
DTEND;TZID=America/Mexico_City:20250814T230000
DTSTAMP:20260422T235613
CREATED:20241217T172336Z
LAST-MODIFIED:20241217T172336Z
UID:1625-1755201600-1755212400@gentesanluis.com
SUMMARY:Jorge Lozano H.  en SLP
DESCRIPTION:Jorge Lozano H. en San Luis Potosí\nLlega Jorge Lozano H. en SLP con “Libera la Fiera” \n14 de Agosto del 2025 en el Teatro de la Paz \n  \nBoletos a la venta por Superboletos
URL:https://gentesanluis.com/event/jorge-lozano-h-en-slp/
LOCATION:TEATRO DE LA PAZ\, Villerias 205\, Centro Historico\, SAN LUIS POTOSI\, SLP\, Mexico
CATEGORIES:Concierto
ATTACH;FMTTYPE=image/jpeg:https://gentesanluis.com/wp-content/uploads/2024/12/jorge-lozano-h-en-slp-2025.jpg
END:VEVENT
BEGIN:VEVENT
DTSTART;TZID=America/Mexico_City:20250814T220000
DTEND;TZID=America/Mexico_City:20250814T233000
DTSTAMP:20260422T235613
CREATED:20250622T035741Z
LAST-MODIFIED:20250622T035741Z
UID:1921-1755208800-1755214200@gentesanluis.com
SUMMARY:Dancing Queens Palenque FENAPO 2025
DESCRIPTION:Dancing Queens Palenque FENAPO 2025\nSe presenta este 14 de Agosto del 2025 en el Palenque de la Feria Nacional Potosina 2025 \nBoletos a la venta por : smarticket
URL:https://gentesanluis.com/event/dancing-queens-palenque-fenapo-2025/
LOCATION:Palenque FENAPO
CATEGORIES:Concierto
ATTACH;FMTTYPE=image/jpeg:https://gentesanluis.com/wp-content/uploads/2025/06/Dancing-Queens-Palenque-FENAPO-2025.jpg
END:VEVENT
END:VCALENDAR