BEGIN:VCALENDAR
VERSION:2.0
PRODID:-//Gente San Luis - ECPv6.15.20//NONSGML v1.0//EN
CALSCALE:GREGORIAN
METHOD:PUBLISH
X-ORIGINAL-URL:https://gentesanluis.com
X-WR-CALDESC:Eventos para Gente San Luis
REFRESH-INTERVAL;VALUE=DURATION:PT1H
X-Robots-Tag:noindex
X-PUBLISHED-TTL:PT1H
BEGIN:VTIMEZONE
TZID:America/Mexico_City
BEGIN:STANDARD
TZOFFSETFROM:-0600
TZOFFSETTO:-0600
TZNAME:CST
DTSTART:20240101T000000
END:STANDARD
END:VTIMEZONE
BEGIN:VEVENT
DTSTART;TZID=America/Mexico_City:20250808T130000
DTEND;TZID=America/Mexico_City:20250831T233000
DTSTAMP:20260425T091051
CREATED:20250520T151718Z
LAST-MODIFIED:20250722T040515Z
UID:1765-1754658000-1756683000@gentesanluis.com
SUMMARY:Teatro del Pueblo FENAPO 2025
DESCRIPTION:Teatro del Pueblo FENAPO 2025\nFeria Nacional Potosina 2025 del 8 al 31 de Agosto \nArtistas  Teatro del Pueblo FENAPO 2025 \nViernes 8 de Agosto: DUELO.\nSábado 9 de Agosto: BANDA MS.\n Domingo 10 de Agosto: MARILYN MANSON.\n Lunes 11 de Agosto: BELINDA.\n Martes 12 de Agosto: BRONCO.\n Jueves 14 de Agosto: LOS ÁNGELES AZULES.\n Viernes 15 de Agosto: TIËSTO.\n Domingo 17 de Agosto: LOS TIGRES DEL NORTE.\n Martes 19 de Agosto: DON OMAR.\n Miércoles 20 de Agosto: BANDA MACHOS y MI BANDA EL MEXICANO.\n Jueves 21 de Agosto: REIK.\n Viernes 22 de Agosto: LA ARROLLADORA BANDA EL LIMÓN.\n Sábado 23 de Agosto: LOS INQUIETOS DEL NORTE y LOS HEREDEROS DE NUEVO LEÓN.\n Domingo 24 de Agosto: POTOSINAZO (Vagón Chicano\, Los Indomables de Cedral y Legítimo).\n Martes 26 de Agosto: LOS TUCANES DE TIJUANA.\n Miércoles 27 de Agosto: EL MALILLA.\n Jueves 28 de Agosto: POLYMARCHS.\n Viernes 29 de Agosto: ENRIQUE IGLESIAS.\n Sábado 30 de Agosto: MARCA REGISTRADA y VÍCTOR VALVERDE.\n Domingo 31 de Agosto: GRUPO FRONTERA.\n\nBoletos Terrazas FENAPO 2025\npor : https://slpfastticket.com/ListaEventos.aspx
URL:https://gentesanluis.com/event/teatro-del-pueblo-fenapo-2025/
LOCATION:Teatro del Pueblo FENAPO\, San Luis Potosí\, San Luis Potosí\, Mexico
CATEGORIES:FENAPO 2025
ATTACH;FMTTYPE=image/jpeg:https://gentesanluis.com/wp-content/uploads/2025/05/teatro-del-pueblo-fenapo-2025-1.jpg
END:VEVENT
BEGIN:VEVENT
DTSTART;TZID=America/Mexico_City:20250808T230000
DTEND;TZID=America/Mexico_City:20250831T233000
DTSTAMP:20260425T091051
CREATED:20250520T152303Z
LAST-MODIFIED:20250529T013739Z
UID:1768-1754694000-1756683000@gentesanluis.com
SUMMARY:Palenque FENAPO 2025
DESCRIPTION:Palenque FENAPO 2025\nFeria Nacional Potosina 2025 del 8 al 31 de Agosto \nArtistas Palenque  FENAPO 2025 \n\n8 Agosto Lupita DAlessio\n9 Agosto Palomazo norteño\n10 Agosto Gabito Ballesteros\n14 Agosto Ana Bárbara Martha Sánchez\, Fey\n15 Agosto Luís R\, Conriquez\n16 Agosto Emmanuel y Mijares\n17 Agosto Junior H.\n21 Agosto La Firma Y David Olivares\n22 Agosto María José\n23 Agosto Pesado\n27 Agosto Brincos Dieras\n28 Agosto Cristian Castro\n29 Agosto Conjunto Primavera\n30 y 31 agosto “Juntos “ Josi Cuen y Jorge Medina\n\n 
URL:https://gentesanluis.com/event/palenque-fenapo-2025/
LOCATION:Palenque FENAPO
CATEGORIES:FENAPO 2025
ATTACH;FMTTYPE=image/jpeg:https://gentesanluis.com/wp-content/uploads/2025/05/Palenque-FENAPO-2025-SLP.jpg
END:VEVENT
BEGIN:VEVENT
DTSTART;TZID=America/Mexico_City:20250821T210000
DTEND;TZID=America/Mexico_City:20250821T233000
DTSTAMP:20260425T091051
CREATED:20250618T195509Z
LAST-MODIFIED:20250618T195509Z
UID:1894-1755810000-1755819000@gentesanluis.com
SUMMARY:La Firma y David Olivarez en Palenque FENAPO 2025
DESCRIPTION:La Firma y David Olivarez en Palenque FENAPO 2025\nSe presentarán el 21 de Agosto en el Palenque de la Feria Nacional Potosina 2025 \nBoletos a la venta por: smarticket.
URL:https://gentesanluis.com/event/la-firma-y-david-olivarez-en-palenque-fenapo-2025/
LOCATION:Palenque FENAPO
CATEGORIES:Concierto
ATTACH;FMTTYPE=image/jpeg:https://gentesanluis.com/wp-content/uploads/2025/06/La-Firma-y-David-Olivarez-en-Palenque-FENAPO-2025.jpg
END:VEVENT
BEGIN:VEVENT
DTSTART;TZID=America/Mexico_City:20250822T220000
DTEND;TZID=America/Mexico_City:20250822T233000
DTSTAMP:20260425T091051
CREATED:20250618T185647Z
LAST-MODIFIED:20250618T185647Z
UID:1891-1755900000-1755905400@gentesanluis.com
SUMMARY:María José Palenque FENAPO 2025
DESCRIPTION:María José en el Palenque FENAPO 2025\nSe presentará el 22 de Agosto en el Palenque de la Feria Nacional Potosina \nBoletos ya a la venta por : smarticket
URL:https://gentesanluis.com/event/maria-jose-palenque-fenapo-2025/
LOCATION:Palenque FENAPO
CATEGORIES:Concierto
ATTACH;FMTTYPE=image/jpeg:https://gentesanluis.com/wp-content/uploads/2025/06/Maria-Jose-Palenque-FENAPO-2025.jpg
END:VEVENT
BEGIN:VEVENT
DTSTART;TZID=America/Mexico_City:20250823T220000
DTEND;TZID=America/Mexico_City:20250824T233000
DTSTAMP:20260425T091051
CREATED:20250618T070921Z
LAST-MODIFIED:20250618T070921Z
UID:1888-1755986400-1756078200@gentesanluis.com
SUMMARY:Carin León Palenque FENAPO 2025
DESCRIPTION:Carin León Palenque FENAPO 2025\nSe presenta el 23 y 24 de Agosto del 2025 en el Palenque de la Feria Nacional Potosina \nBoletos a la venta por : smarticket.
URL:https://gentesanluis.com/event/carin-leon-palenque-fenapo-2025/
LOCATION:Palenque FENAPO
CATEGORIES:Concierto,FENAPO 2025
ATTACH;FMTTYPE=image/jpeg:https://gentesanluis.com/wp-content/uploads/2025/06/Carin-Leon-Palenque-FENAPO-2025.jpg
END:VEVENT
BEGIN:VEVENT
DTSTART;TZID=America/Mexico_City:20250827T220000
DTEND;TZID=America/Mexico_City:20250827T233000
DTSTAMP:20260425T091051
CREATED:20250618T033114Z
LAST-MODIFIED:20250618T033114Z
UID:1885-1756332000-1756337400@gentesanluis.com
SUMMARY:Alfredo Olivas Palenque FENAPO 2025
DESCRIPTION:Alfredo Olivas Palenque FENAPO 2025\nSe presenta 27 de Agosto del 2025 en el Palenque de la Feria Nacional Potosina \nVenta de boletos por: smarticket. \n 
URL:https://gentesanluis.com/event/alfredo-olivas-palenque-fenapo-2025/
LOCATION:Palenque FENAPO
CATEGORIES:Concierto
ATTACH;FMTTYPE=image/jpeg:https://gentesanluis.com/wp-content/uploads/2025/06/Alfredo-Olivas-Palenque-FENAPO-2025.jpg
END:VEVENT
BEGIN:VEVENT
DTSTART;TZID=America/Mexico_City:20250828T220000
DTEND;TZID=America/Mexico_City:20250828T233000
DTSTAMP:20260425T091051
CREATED:20250617T204555Z
LAST-MODIFIED:20250617T204555Z
UID:1881-1756418400-1756423800@gentesanluis.com
SUMMARY:Cristian Castro Palenque FENAPO 2025
DESCRIPTION:Cristian Castro Palenque FENAPO 2025\nSe presenta el 28 de agosto en el Palenque de la Feria Nacional Potosina \nBoletos a la venta por :  smarticket
URL:https://gentesanluis.com/event/cristian-castro-palenque-fenapo-2025/
LOCATION:Palenque FENAPO
CATEGORIES:Concierto,FENAPO 2025
ATTACH;FMTTYPE=image/jpeg:https://gentesanluis.com/wp-content/uploads/2025/06/Cristian-Castro-Palenque-FENAPO-2025.jpg
END:VEVENT
BEGIN:VEVENT
DTSTART;TZID=America/Mexico_City:20250829T220000
DTEND;TZID=America/Mexico_City:20250829T233000
DTSTAMP:20260425T091051
CREATED:20250617T204134Z
LAST-MODIFIED:20250617T204723Z
UID:1878-1756504800-1756510200@gentesanluis.com
SUMMARY:Conjunto  Primavera Palenque FENAPO 2025
DESCRIPTION:Conjunto Primavera Palenque FENAPO 2025\n29 de Agosto en el Palenque de la Feria Nacional Potosina \nBoletos a la venta por : smarticket.
URL:https://gentesanluis.com/event/conjunto-primavera-palenque-fenapo-2025/
LOCATION:Palenque FENAPO
CATEGORIES:Concierto
ATTACH;FMTTYPE=image/jpeg:https://gentesanluis.com/wp-content/uploads/2025/06/Conjunto-Primavera-Palenque-FENAPO-2025.jpg
END:VEVENT
BEGIN:VEVENT
DTSTART;TZID=America/Mexico_City:20250830T220000
DTEND;TZID=America/Mexico_City:20250831T170000
DTSTAMP:20260425T091051
CREATED:20250617T200336Z
LAST-MODIFIED:20250617T200336Z
UID:1875-1756591200-1756659600@gentesanluis.com
SUMMARY:JUNTOS Jorge Medina y Josi Cuen Palenque FENAPO 2025
DESCRIPTION:JUNTOS Jorge Medina y Josi Cuen Palenque FENAPO 2025\nSe presentan en el Palenque de la Feria Nacional Potosina \neste 30 y 31 de Agosto del 2025 \nBoletos por smarticket.
URL:https://gentesanluis.com/event/juntos-jorge-medina-y-josi-cuen-palenque-fenapo-2025/
LOCATION:Palenque FENAPO
CATEGORIES:Concierto
ATTACH;FMTTYPE=image/jpeg:https://gentesanluis.com/wp-content/uploads/2025/06/JUNTOS-Jorge-Medinay-Josi-Cuen-Palenque-FENAPO-2025.jpg
END:VEVENT
BEGIN:VEVENT
DTSTART;TZID=America/Mexico_City:20250905T200000
DTEND;TZID=America/Mexico_City:20250905T233000
DTSTAMP:20260425T091051
CREATED:20250607T195234Z
LAST-MODIFIED:20250607T195234Z
UID:1841-1757102400-1757115000@gentesanluis.com
SUMMARY:Los Bunkers en SLP 2025
DESCRIPTION:Los Bunkers en SLP 2025\n  \nLos Bunkers Unplugged en SLP 2025 en la Cineteca Alameda este 5 de Septiembre del 2025 \, \n  \nBoletos a la venta por Arema Ticket
URL:https://gentesanluis.com/event/los-bunkers-en-slp-2025/
LOCATION:CINETECA ALAMEDA\, Avenida Universidad 575\, SAN LUIS POTOSI\, SLP\, Mexico
CATEGORIES:Concierto
ATTACH;FMTTYPE=image/jpeg:https://gentesanluis.com/wp-content/uploads/2025/06/Los-Bunkers-en-SLP-2025.jpg
END:VEVENT
BEGIN:VEVENT
DTSTART;TZID=America/Mexico_City:20250927T200000
DTEND;TZID=America/Mexico_City:20250927T233000
DTSTAMP:20260425T091051
CREATED:20250617T165902Z
LAST-MODIFIED:20250617T165902Z
UID:1872-1759003200-1759015800@gentesanluis.com
SUMMARY:La Gusana Ciega y Odisseo en SLP 2025
DESCRIPTION:La Gusana Ciega y Odisseo en SLP 2025\neste 27 de Septiembre en la Cineteca Alameda \nLos boletos a la venta por \nArema Ticket : https://arema.mx/evento/14790
URL:https://gentesanluis.com/event/la-gusana-ciega-y-odisseo-en-slp-2025/
LOCATION:CINETECA ALAMEDA\, Avenida Universidad 575\, SAN LUIS POTOSI\, SLP\, Mexico
CATEGORIES:Concierto
ATTACH;FMTTYPE=image/jpeg:https://gentesanluis.com/wp-content/uploads/2025/06/La-Gusana-Ciega-y-Odisseo-en-SLP-2025.jpg
END:VEVENT
BEGIN:VEVENT
DTSTART;TZID=America/Mexico_City:20250927T210000
DTEND;TZID=America/Mexico_City:20250927T230000
DTSTAMP:20260425T091051
CREATED:20250514T174009Z
LAST-MODIFIED:20250514T174009Z
UID:1756-1759006800-1759014000@gentesanluis.com
SUMMARY:HAASH en SLP 2025
DESCRIPTION:HAASH en San Luis Potosí\nEste 27 de Septiembre del 2025 \nBoletos para HAASH a la venta por Superboletos \n 
URL:https://gentesanluis.com/event/haash-en-slp-2025/
LOCATION:PLAZA DE TOROS MONUMENTAL EL PASEO\, SAN LUIS POTOSI\, SLP\, Mexico
CATEGORIES:Concierto
ATTACH;FMTTYPE=image/jpeg:https://gentesanluis.com/wp-content/uploads/2025/05/HAASH-en-San-Luis-2025.jpg
END:VEVENT
BEGIN:VEVENT
DTSTART;TZID=America/Mexico_City:20251003T200000
DTEND;TZID=America/Mexico_City:20251003T233000
DTSTAMP:20260425T091051
CREATED:20250722T042232Z
LAST-MODIFIED:20250722T042321Z
UID:1952-1759521600-1759534200@gentesanluis.com
SUMMARY:Los Auténticos Decadentes en San Luis Potosí 2025
DESCRIPTION:🎉 Los Auténticos Decadentes en San Luis Potosí 2025\n¡Prepárate para una noche inolvidable! La legendaria banda argentina Los Auténticos Decadentes regresa a San Luis Potosí en 2025 con su gira más esperada. Vive la fiesta\, el ritmo y la nostalgia de éxitos como “Loco (tu forma de ser)”\, “La guitarra” y muchos más. \nEste concierto en SLP promete ser uno de los eventos musicales más importantes del año\, atrayendo a miles de fanáticos del rock\, ska y cumbia de toda la región. Si buscas boletos para Los Auténticos Decadentes en San Luis Potosí\, aquí encontrarás toda la información oficial: fecha\, lugar\, precios y puntos de venta. \n📅 ¿Cuándo y dónde se presentarán Los Auténticos Decadentes en SLP?\nEl evento se llevará a cabo en Teatro del Parque Tangamanga I el 3 de Octubre del 2025. ¡Aparta la fecha y no te lo pierdas! \n🎫 Boletos para Los Auténticos Decadentes en San Luis Potosí 2025\nConsigue tus entradas oficiales antes de que se agoten. Consulta aquí los precios por zona\, promociones especiales y métodos de pago disponibles. \nCompra tus boletos aquí y únete a esta experiencia única que sólo Los Decadentes pueden ofrecer. \n🌟 ¿Por qué asistir al concierto de Los Auténticos Decadentes?\n\nUn show lleno de energía\, baile y clásicos inolvidables.\nUna oportunidad única de ver a una de las bandas más queridas de Latinoamérica en vivo.\nAmbiente seguro\, divertido y lleno de fiesta.\n\nEn www.gentesanluis.com te traemos lo mejor de los eventos en San Luis Potosí. ¡Sigue visitándonos para más conciertos\, festivales y boletos exclusivos!
URL:https://gentesanluis.com/event/los-autenticos-decadentes-en-san-luis-potosi-2025/
LOCATION:TEATRO DE LA CIUDAD PARQUE TANGAMANGA 1\, Av. Salvador Nava Martínez\, Parque Tangamanga I\, SLP\, SLP\, Mexico
CATEGORIES:Concierto
ATTACH;FMTTYPE=image/jpeg:https://gentesanluis.com/wp-content/uploads/2025/07/Los-Autenticos-Decadentes-SLP-2025.jpg
END:VEVENT
BEGIN:VEVENT
DTSTART;TZID=America/Mexico_City:20251004T210000
DTEND;TZID=America/Mexico_City:20251004T233000
DTSTAMP:20260425T091051
CREATED:20250507T023505Z
LAST-MODIFIED:20250507T023553Z
UID:1751-1759611600-1759620600@gentesanluis.com
SUMMARY:Intocable en SLP 2025
DESCRIPTION:Intocable en SLP 2025\nAntología TOUR \neste 4 de Octubre del 2025 en el Teatro de la Ciudad del Parque Tangamanga 2 \nBoletos por Arema Ticket
URL:https://gentesanluis.com/event/intocable-en-slp-2025/
LOCATION:Teatro de la Ciudad del Parque Tangamanga 2\, Mexico
CATEGORIES:Concierto
ATTACH;FMTTYPE=image/jpeg:https://gentesanluis.com/wp-content/uploads/2025/05/Intocable-en-SLP-2025.jpg
END:VEVENT
BEGIN:VEVENT
DTSTART;TZID=America/Mexico_City:20251004T210000
DTEND;TZID=America/Mexico_City:20251004T233000
DTSTAMP:20260425T091051
CREATED:20250617T155052Z
LAST-MODIFIED:20250617T155052Z
UID:1868-1759611600-1759620600@gentesanluis.com
SUMMARY:Alexa Zuart en SLP 2025
DESCRIPTION:Alexa Zuart en SLP 2025\nEste 4 de Octubre del 2025 \nPuertas 8 pm \, Show 9pm \nSala Flavio F. Carlos \, Teatro de la Paz \nBoletos por : Ticketmania
URL:https://gentesanluis.com/event/alexa-zuart-en-slp-2025/
LOCATION:Sala Flavio F. Carlos
CATEGORIES:COMEDIA
ATTACH;FMTTYPE=image/jpeg:https://gentesanluis.com/wp-content/uploads/2025/06/Alexa-Zuart-en-SLP-2025.jpg
END:VEVENT
BEGIN:VEVENT
DTSTART;TZID=America/Mexico_City:20251016T210000
DTEND;TZID=America/Mexico_City:20251016T230000
DTSTAMP:20260425T091051
CREATED:20250430T172356Z
LAST-MODIFIED:20250501T200011Z
UID:1743-1760648400-1760655600@gentesanluis.com
SUMMARY:Alejandro Sanz en SLP 2025
DESCRIPTION:Alejandro Sanz en SLP 2025\n16 de octubre de 2025  21:00 HRS \nArena Potosí \nBoletos Alejandro Sanz  por eticket: \n\nDIAMANTE $4\,010.00\n\n\nPLATINO $3\,305.00\n\n\nORO $2\,595.00\n\n\nPLATA $2\,125.00\n\n\nNIVEL 1 $1\,770.00\n\n\nISLA $1\,415.00\n\n\nNIVEL 3 $710.00\n\n\nPERS. CON DISCAPACIDAD $710.00
URL:https://gentesanluis.com/event/alejandro-sanz-en-slp-2025/
LOCATION:Arena Potosi\, Av. Simón Díaz 245\, Satélite\, San Luis Potosí\, San Luis Potosí\, San Luis Potosí\, Mexico
CATEGORIES:Concierto
ATTACH;FMTTYPE=image/png:https://gentesanluis.com/wp-content/uploads/2025/04/Alejandro-Sanz-en-SLP2025.png
END:VEVENT
BEGIN:VEVENT
DTSTART;TZID=America/Mexico_City:20251018T220000
DTEND;TZID=America/Mexico_City:20251018T233000
DTSTAMP:20260425T091051
CREATED:20250624T022115Z
LAST-MODIFIED:20250624T022115Z
UID:1928-1760824800-1760830200@gentesanluis.com
SUMMARY:La Mafia en SLP 2025
DESCRIPTION:La Mafia en SLP 2025\nademás Los Herederos de Nuevo León  y Arnulfo Jr. \nSe presentan este 18 de Octubre del 2025 en el Palenque de la FENAPO \nBoletos a la venta : por Arema Ticket
URL:https://gentesanluis.com/event/la-mafia-en-slp-2025/
LOCATION:Palenque FENAPO
CATEGORIES:Concierto
ATTACH;FMTTYPE=image/jpeg:https://gentesanluis.com/wp-content/uploads/2025/06/La-Mafia-en-SLP-2025.jpg
END:VEVENT
BEGIN:VEVENT
DTSTART;TZID=America/Mexico_City:20251024T200000
DTEND;TZID=America/Mexico_City:20251024T200000
DTSTAMP:20260425T091051
CREATED:20250530T195838Z
LAST-MODIFIED:20250530T195838Z
UID:1834-1761336000-1761336000@gentesanluis.com
SUMMARY:Enjambre en SLP 2025
DESCRIPTION:Enjambre en SLP 2025\nUna noche catártica vivirá San Luis Potosí con la llegada del “Daños Luz Tour” de Enjambre ✨🎶 \nEnjambre\n📍 Teatro del Parque Tangamanga I\n🗓 24 de octubre 2025\n🎫 Venta General: 30 de mayo\n🛒 Arema Ticket\n🔗 https://arema.mx/
URL:https://gentesanluis.com/event/enjambre-en-slp-2025/
LOCATION:TEATRO DE LA CIUDAD PARQUE TANGAMANGA 1\, Av. Salvador Nava Martínez\, Parque Tangamanga I\, SLP\, SLP\, Mexico
CATEGORIES:Concierto
ATTACH;FMTTYPE=image/jpeg:https://gentesanluis.com/wp-content/uploads/2025/05/Enjambre-en-SLP-2025.jpg
END:VEVENT
BEGIN:VEVENT
DTSTART;TZID=America/Mexico_City:20251030T200000
DTEND;TZID=America/Mexico_City:20251030T233000
DTSTAMP:20260425T091051
CREATED:20251021T051341Z
LAST-MODIFIED:20251021T051341Z
UID:2030-1761854400-1761867000@gentesanluis.com
SUMMARY:Ari Telch Dmente SLP 2025
DESCRIPTION:Ari Telch Dmente SLP 2025\nen el Teatro de la Paz este 30 de Octubre a la 8pm \nBoletos a la venta por Arema Ticket
URL:https://gentesanluis.com/event/ari-telch-dmente-slp-2025/
LOCATION:TEATRO DE LA PAZ\, Villerias 205\, Centro Historico\, SAN LUIS POTOSI\, SLP\, Mexico
CATEGORIES:TEATRO
ATTACH;FMTTYPE=image/jpeg:https://gentesanluis.com/wp-content/uploads/2025/10/ari-telch.jpg
END:VEVENT
BEGIN:VEVENT
DTSTART;TZID=America/Mexico_City:20251101T170000
DTEND;TZID=America/Mexico_City:20251102T170000
DTSTAMP:20260425T091051
CREATED:20251021T044636Z
LAST-MODIFIED:20251021T044636Z
UID:2026-1762016400-1762102800@gentesanluis.com
SUMMARY:Expo Pan de Muerto en Plaza Tangamanga
DESCRIPTION:Expo Pan de Muerto en Plaza Tangamanga 2025\n1 y 2 de Noviembre \nEntrada Libre
URL:https://gentesanluis.com/event/expo-pan-de-muerto-plaza-tangamanga/
LOCATION:Plaza Tangamanga\, San Luis Potosí\, Mexico
CATEGORIES:Feria,Festival
ATTACH;FMTTYPE=image/jpeg:https://gentesanluis.com/wp-content/uploads/2025/10/expo-pan-de-muerto-plaza-tangamanga.jpg
END:VEVENT
BEGIN:VEVENT
DTSTART;TZID=America/Mexico_City:20251101T203000
DTEND;TZID=America/Mexico_City:20251101T220000
DTSTAMP:20260425T091051
CREATED:20251023T191855Z
LAST-MODIFIED:20251023T191855Z
UID:2047-1762029000-1762034400@gentesanluis.com
SUMMARY:El Lago de los Cisnes en SLP 2025
DESCRIPTION:El Lago de los Cisnes en SLP 2025\nEn el Teatro de la Paz este 1 de Noviembre  2025 \, 8:30 pm \nBoletos a la venta por : Superboletos
URL:https://gentesanluis.com/event/el-lago-de-los-cisnes-en-slp-2025/
LOCATION:TEATRO DE LA PAZ\, Villerias 205\, Centro Historico\, SAN LUIS POTOSI\, SLP\, Mexico
CATEGORIES:TEATRO
ATTACH;FMTTYPE=image/jpeg:https://gentesanluis.com/wp-content/uploads/2025/10/El-Lago-de-los-Cisnes-en-SLP-2025.jpg
END:VEVENT
BEGIN:VEVENT
DTSTART;TZID=America/Mexico_City:20251102T170000
DTEND;TZID=America/Mexico_City:20251102T223000
DTSTAMP:20260425T091051
CREATED:20251022T172827Z
LAST-MODIFIED:20251022T172827Z
UID:2043-1762102800-1762122600@gentesanluis.com
SUMMARY:La Dama de Negro en SLP
DESCRIPTION:La Dama de Negro en SLP\n¿ Vas a venir o tienes miedo ?? \nEste 2 de Noviembre del 2025 en el Teatro de la Paz \nFunciones 5 y 7:30 pm \nBoletos por Superboletos
URL:https://gentesanluis.com/event/la-dama-de-negro-en-slp/
LOCATION:TEATRO DE LA PAZ\, Villerias 205\, Centro Historico\, SAN LUIS POTOSI\, SLP\, Mexico
CATEGORIES:TEATRO
ATTACH;FMTTYPE=image/jpeg:https://gentesanluis.com/wp-content/uploads/2025/10/la-dama-de-negro.jpg
END:VEVENT
BEGIN:VEVENT
DTSTART;TZID=America/Mexico_City:20251105T080000
DTEND;TZID=America/Mexico_City:20251105T170000
DTSTAMP:20260425T091051
CREATED:20251024T051621Z
LAST-MODIFIED:20251024T051621Z
UID:2053-1762329600-1762362000@gentesanluis.com
SUMMARY:Dios Mío\, Hazme Viuda Por Favor en SLP 2025
DESCRIPTION:Dios Mío\, Hazme Viuda Por Favor en SLP 2025\n5 Noviembre 2025 \nTeatro de La Paz\n 7:00 y 9:15 PM\n\nBoletos por : Superboletos
URL:https://gentesanluis.com/event/dios-mio-hazme-viuda-por-favor-en-slp-2025/
LOCATION:TEATRO DE LA PAZ\, Villerias 205\, Centro Historico\, SAN LUIS POTOSI\, SLP\, Mexico
CATEGORIES:TEATRO
ATTACH;FMTTYPE=image/jpeg:https://gentesanluis.com/wp-content/uploads/2025/10/Dios-Mio-Hazme-Viuda-Por-Favor-en-SLP-2025.jpg
END:VEVENT
BEGIN:VEVENT
DTSTART;TZID=America/Mexico_City:20251106T190000
DTEND;TZID=America/Mexico_City:20251106T233000
DTSTAMP:20260425T091051
CREATED:20251103T154514Z
LAST-MODIFIED:20251103T154514Z
UID:2060-1762455600-1762471800@gentesanluis.com
SUMMARY:Busco al hombre de mi vida SLP 2025
DESCRIPTION:Busco al hombre de mi vida SLP 2025\nJueves 6 de Noviembre \nen el Teatro de la Paz \nFunciones 7 y 9:30pm \nBoletos a la venta en Arema.mx
URL:https://gentesanluis.com/event/busco-al-hombre-de-mi-vida-slp-2025/
LOCATION:TEATRO DE LA PAZ\, Villerias 205\, Centro Historico\, SAN LUIS POTOSI\, SLP\, Mexico
CATEGORIES:TEATRO
ATTACH;FMTTYPE=image/jpeg:https://gentesanluis.com/wp-content/uploads/2025/11/Busco-al-hombre-de-mi-vida-SLP-2025.jpg
END:VEVENT
BEGIN:VEVENT
DTSTART;TZID=America/Mexico_City:20251108T200000
DTEND;TZID=America/Mexico_City:20251108T230000
DTSTAMP:20260425T091051
CREATED:20250621T174000Z
LAST-MODIFIED:20250621T174000Z
UID:1908-1762632000-1762642800@gentesanluis.com
SUMMARY:Camilo Séptimo en SLP 2025
DESCRIPTION:Camilo Séptimo en SLP 2025\nEste 8 de Noviembre del 2025 \nEn la Cineteca Alameda \nBoletos a la venta por Arema Ticket
URL:https://gentesanluis.com/event/camilo-septimo-en-slp-2025/
LOCATION:CINETECA ALAMEDA\, Avenida Universidad 575\, SAN LUIS POTOSI\, SLP\, Mexico
CATEGORIES:COMEDIA
ATTACH;FMTTYPE=image/jpeg:https://gentesanluis.com/wp-content/uploads/2025/06/Camilo-Septimo-en-SLP-2025.jpg
END:VEVENT
BEGIN:VEVENT
DTSTART;TZID=America/Mexico_City:20251108T220000
DTEND;TZID=America/Mexico_City:20251108T233000
DTSTAMP:20260425T091051
CREATED:20251022T171400Z
LAST-MODIFIED:20251022T171400Z
UID:2040-1762639200-1762644600@gentesanluis.com
SUMMARY:Los Parras en San Luis Potosí 2025
DESCRIPTION:Los Parras en San Luis Potosí 2025\nEn el Palenque de FENAPO \n8 de Noviembre del 2025 \n\, Boletos por Smarticket
URL:https://gentesanluis.com/event/los-parras-en-san-luis-potosi-2025/
LOCATION:Palenque FENAPO
CATEGORIES:Concierto
ATTACH;FMTTYPE=image/jpeg:https://gentesanluis.com/wp-content/uploads/2025/10/los-parras-en-SLP.jpg
END:VEVENT
BEGIN:VEVENT
DTSTART;TZID=America/Mexico_City:20251113T200000
DTEND;TZID=America/Mexico_City:20251113T230000
DTSTAMP:20260425T091051
CREATED:20251023T192512Z
LAST-MODIFIED:20251023T192512Z
UID:2050-1763064000-1763074800@gentesanluis.com
SUMMARY:El Cascanueces en SLP 2025
DESCRIPTION:El Cascanueces en SLP 2025\n13 de Noviembre 8pm en el Teatro de la Paz \nPor el Ballet Nacional Ruso \n 
URL:https://gentesanluis.com/event/el-cascanueces-en-slp-2025/
LOCATION:TEATRO DE LA PAZ\, Villerias 205\, Centro Historico\, SAN LUIS POTOSI\, SLP\, Mexico
CATEGORIES:TEATRO
ATTACH;FMTTYPE=image/jpeg:https://gentesanluis.com/wp-content/uploads/2025/10/El-Cascanueces-en-SLP-2025.jpg
END:VEVENT
BEGIN:VEVENT
DTSTART;TZID=America/Mexico_City:20251114T210000
DTEND;TZID=America/Mexico_City:20251114T233000
DTSTAMP:20260425T091051
CREATED:20250527T191611Z
LAST-MODIFIED:20250527T191611Z
UID:1820-1763154000-1763163000@gentesanluis.com
SUMMARY:Julieta Venegas en SLP 2025
DESCRIPTION:Julieta Venegas en SLP 2025\nTeatro del Parque Tangamanga I \n14 de noviembre 2025 \nVenta General: 30 de mayo\n🛒 Arema Ticket\n🔗 https://arema.mx/
URL:https://gentesanluis.com/event/julieta-venegas-en-slp-2025/
LOCATION:TEATRO DE LA CIUDAD PARQUE TANGAMANGA 1\, Av. Salvador Nava Martínez\, Parque Tangamanga I\, SLP\, SLP\, Mexico
CATEGORIES:Concierto
ATTACH;FMTTYPE=image/jpeg:https://gentesanluis.com/wp-content/uploads/2025/05/Julieta-Venegas-en-SLP-2025.jpg
END:VEVENT
BEGIN:VEVENT
DTSTART;TZID=America/Mexico_City:20251115T203000
DTEND;TZID=America/Mexico_City:20251115T233000
DTSTAMP:20260425T091051
CREATED:20251020T005003Z
LAST-MODIFIED:20251020T005003Z
UID:2022-1763238600-1763249400@gentesanluis.com
SUMMARY:Encadenados en San Luis Potosí 2025
DESCRIPTION:Encadenados en San Luis Potosí 2025\n15 de Noviembre \, 20:30 hrs \nTeatro de la Paz \nJorge Muñiz ! \nBoletos a la venta por Superboletos
URL:https://gentesanluis.com/event/encadenados-en-san-luis-potosi-2025/
LOCATION:TEATRO DE LA PAZ\, Villerias 205\, Centro Historico\, SAN LUIS POTOSI\, SLP\, Mexico
CATEGORIES:Concierto
ATTACH;FMTTYPE=image/jpeg:https://gentesanluis.com/wp-content/uploads/2025/10/encadenados-en-san-luis-potosi-2025.jpg
END:VEVENT
BEGIN:VEVENT
DTSTART;TZID=America/Mexico_City:20251121T200000
DTEND;TZID=America/Mexico_City:20251121T233000
DTSTAMP:20260425T091051
CREATED:20250616T024925Z
LAST-MODIFIED:20250616T024925Z
UID:1846-1763755200-1763767800@gentesanluis.com
SUMMARY:Apocalyptica en SLP 2025
DESCRIPTION:Apocalyptica en SLP 2025\nSe presenta Apocalyptica en San Luis Potosí el 21 de Noviembre del 2025. \nLa banda de metal alternativo y chelo metal estará interpretando Plays Metallica Vol 2 \nBoletos a la venta por : www.smarticket.com
URL:https://gentesanluis.com/event/apocalyptica-en-slp-2025/
LOCATION:Teatro de la Ciudad del Parque Tangamanga 2\, Mexico
CATEGORIES:Concierto
ATTACH;FMTTYPE=image/jpeg:https://gentesanluis.com/wp-content/uploads/2025/06/Apocalyptica-en-SLP-2025.jpg
END:VEVENT
END:VCALENDAR