BEGIN:VCALENDAR
VERSION:2.0
PRODID:-//Gente San Luis - ECPv6.15.20//NONSGML v1.0//EN
CALSCALE:GREGORIAN
METHOD:PUBLISH
X-ORIGINAL-URL:https://gentesanluis.com
X-WR-CALDESC:Eventos para Gente San Luis
REFRESH-INTERVAL;VALUE=DURATION:PT1H
X-Robots-Tag:noindex
X-PUBLISHED-TTL:PT1H
BEGIN:VTIMEZONE
TZID:America/Mexico_City
BEGIN:STANDARD
TZOFFSETFROM:-0600
TZOFFSETTO:-0600
TZNAME:CST
DTSTART:20240101T000000
END:STANDARD
END:VTIMEZONE
BEGIN:VEVENT
DTSTART;TZID=America/Mexico_City:20250124T080000
DTEND;TZID=America/Mexico_City:20250124T170000
DTSTAMP:20260421T185914
CREATED:20241231T230228Z
LAST-MODIFIED:20241231T230228Z
UID:1650-1737705600-1737738000@gentesanluis.com
SUMMARY:The Beatles interpretado por The Breetles
DESCRIPTION:The Beatles interpretado por The Breetles \n24 de Enero del 2025 \nTeatro Polivalente \n  \nBoletos por VIPTICKET
URL:https://gentesanluis.com/event/the-beatles-interpretado-por-the-breetles/
LOCATION:Teatro Polivalente\, San Luis Potosí\, Mexico
CATEGORIES:Concierto
ATTACH;FMTTYPE=image/jpeg:https://gentesanluis.com/wp-content/uploads/2024/12/The-Beatles-interpretado-por-The-Breetles.jpg
END:VEVENT
BEGIN:VEVENT
DTSTART;TZID=America/Mexico_City:20250128T190000
DTEND;TZID=America/Mexico_City:20250128T190000
DTSTAMP:20260421T185914
CREATED:20250104T041517Z
LAST-MODIFIED:20250104T041517Z
UID:1654-1738090800-1738090800@gentesanluis.com
SUMMARY:Yo Miento\, Tú Mientes\, Todos Mentimos en SLP
DESCRIPTION:Yo Miento\, Tú Mientes\, Todos Mentimos en SLP\nTeatro de la Paz \n28 de Enero del 2025 \n2 funciones: 7:00 y 9:15 PM \nsuperboletos: https://bit.ly/3BwhOPg
URL:https://gentesanluis.com/event/yo-miento-tu-mientes-todos-mentimos-en-slp/
LOCATION:TEATRO DE LA PAZ\, Villerias 205\, Centro Historico\, SAN LUIS POTOSI\, SLP\, Mexico
CATEGORIES:TEATRO
ATTACH;FMTTYPE=image/jpeg:https://gentesanluis.com/wp-content/uploads/2025/01/Yo-Miento-Tu-Mientes-Todos-Mentimos.jpg
END:VEVENT
BEGIN:VEVENT
DTSTART;TZID=America/Mexico_City:20250131T210000
DTEND;TZID=America/Mexico_City:20250131T233000
DTSTAMP:20260421T185914
CREATED:20250112T043956Z
LAST-MODIFIED:20250112T043956Z
UID:1658-1738357200-1738366200@gentesanluis.com
SUMMARY:El Malilla en SLP 2025
DESCRIPTION:El Malilla en SLP 2025\nSe presenta en la Cineteca Alameda \n31 de Enero del 2025 a las 9pm \nBoletos por Ticketmania \nCosto de boletos : \nVIP: $896.00 (MX $800.00 + MX $96.00 Cargo por servicio de reservación no reembolsable).\nPreferente: $896.00 (MX $800.00 + MX $96.00 Cargo por servicio de reservación no reembolsable).\nPlanta Alta: $672.00 (MX $600.00 + MX $72.00 Cargo por servicio de reservación no reembolsable).
URL:https://gentesanluis.com/event/el-malilla-en-slp-2025/
LOCATION:CINETECA ALAMEDA\, Avenida Universidad 575\, SAN LUIS POTOSI\, SLP\, Mexico
CATEGORIES:Concierto
ATTACH;FMTTYPE=image/jpeg:https://gentesanluis.com/wp-content/uploads/2025/01/El-Malilla-en-SLP-2025.jpg
END:VEVENT
END:VCALENDAR