BEGIN:VCALENDAR
VERSION:2.0
PRODID:-//Gente San Luis - ECPv6.15.20//NONSGML v1.0//EN
CALSCALE:GREGORIAN
METHOD:PUBLISH
X-WR-CALNAME:Gente San Luis
X-ORIGINAL-URL:https://gentesanluis.com
X-WR-CALDESC:Eventos para Gente San Luis
REFRESH-INTERVAL;VALUE=DURATION:PT1H
X-Robots-Tag:noindex
X-PUBLISHED-TTL:PT1H
BEGIN:VTIMEZONE
TZID:America/Mexico_City
BEGIN:STANDARD
TZOFFSETFROM:-0600
TZOFFSETTO:-0600
TZNAME:CST
DTSTART:20240101T000000
END:STANDARD
END:VTIMEZONE
BEGIN:VEVENT
DTSTART;TZID=America/Mexico_City:20250614T190000
DTEND;TZID=America/Mexico_City:20250614T233000
DTSTAMP:20260424T155028
CREATED:20250527T140927Z
LAST-MODIFIED:20250527T140927Z
UID:1806-1749927600-1749943800@gentesanluis.com
SUMMARY:Lacrimosa en SLP 2025
DESCRIPTION:Lacrimosa en SLP 2025\nLacrimosa en San Luis Potosí este 14 de Junio del 2025 \, 7 pm \nSe presenta en el Centro de las Artes de SLP \nBoletos a la venta para Lacrimosa por Cantodea Producciones \n  \n\n\n\nPreferente\n$ 1\,200.00Por asiento\n\n\nGeneral\n$ 1\,000.00Por asiento
URL:https://gentesanluis.com/event/lacrimosa-en-slp-2025/
LOCATION:CENTRO DE LAS ARTES SLP\, Calz de Guadalupe 705\, San Juan de Guadalupe\, Julian Carrillo\, SAN LUIS POTOSI\, SLP\, Mexico
CATEGORIES:Concierto
ATTACH;FMTTYPE=image/jpeg:https://gentesanluis.com/wp-content/uploads/2025/05/Lacrimosa-en-SLP-2025.jpg
END:VEVENT
BEGIN:VEVENT
DTSTART;TZID=America/Mexico_City:20250614T200000
DTEND;TZID=America/Mexico_City:20250614T220000
DTSTAMP:20260424T155028
CREATED:20250220T184637Z
LAST-MODIFIED:20250220T184655Z
UID:1683-1749931200-1749938400@gentesanluis.com
SUMMARY:Lacrimosa SLP 2025
DESCRIPTION:Lacrimosa SLP 2025\nEste 14 de Junio del 2025 en el Centro de las Artes \, \nBoletos por Cantodea Producciones .
URL:https://gentesanluis.com/event/lacrimosa-slp-2025/
LOCATION:CENTRO DE LAS ARTES SLP\, Calz de Guadalupe 705\, San Juan de Guadalupe\, Julian Carrillo\, SAN LUIS POTOSI\, SLP\, Mexico
CATEGORIES:Concierto
ATTACH;FMTTYPE=image/jpeg:https://gentesanluis.com/wp-content/uploads/2025/02/Lacrimosa-SLP-2025.jpg
END:VEVENT
BEGIN:VEVENT
DTSTART;TZID=America/Mexico_City:20250614T200000
DTEND;TZID=America/Mexico_City:20250614T233000
DTSTAMP:20260424T155028
CREATED:20250520T144514Z
LAST-MODIFIED:20250520T144514Z
UID:1762-1749931200-1749943800@gentesanluis.com
SUMMARY:Matute en SLP 2025
DESCRIPTION:Matute en SLP 2025\n14 de Junio en la Arena Potosí \nBoletos para Matute en smarticket : \nhttps://smarticket.pagatusboletos.com/tickets/es/comprarEvento?idEvento=3864
URL:https://gentesanluis.com/event/matute-en-slp-2025/
LOCATION:SLP
CATEGORIES:Concierto
ATTACH;FMTTYPE=image/jpeg:https://gentesanluis.com/wp-content/uploads/2025/05/Matute-en-SLP-2025.jpg
END:VEVENT
BEGIN:VEVENT
DTSTART;TZID=America/Mexico_City:20250614T213000
DTEND;TZID=America/Mexico_City:20250614T233000
DTSTAMP:20260424T155028
CREATED:20250328T192146Z
LAST-MODIFIED:20250328T192146Z
UID:1697-1749936600-1749943800@gentesanluis.com
SUMMARY:Jorge Coque Muñiz y Jo Jorge Falcón en San Luis Potosí
DESCRIPTION:Jorge Coque Muñiz y Jo Jorge Falcón en San Luis Potosí\nJunio 14 en el Salón Río \n  \nPrecios\nVIP – $1\,600 MXN\nPreferente – $900 MXN\nGeneral – $600 MXN \n  \nVenta de boletos : https://tickets.lamaraka.com.mx/events/coque-muniz-y-jorge-falcon
URL:https://gentesanluis.com/event/jorge-coque-muniz-y-jo-jorge-falcon-en-san-luis-potosi/
LOCATION:Salón Río
CATEGORIES:Concierto
ATTACH;FMTTYPE=image/jpeg:https://gentesanluis.com/wp-content/uploads/2025/03/Jorge-Coque-Muniz-y-Jo-Jorge-Falcon-en-San-Luis.jpg
END:VEVENT
BEGIN:VEVENT
DTSTART;TZID=America/Mexico_City:20250620T180000
DTEND;TZID=America/Mexico_City:20250620T180000
DTSTAMP:20260424T155028
CREATED:20250214T184220Z
LAST-MODIFIED:20250214T184220Z
UID:1665-1750442400-1750442400@gentesanluis.com
SUMMARY:PERFUME DE GARDENIA SAN LUIS POTOSÍ 2025
DESCRIPTION:PERFUME DE GARDENIAS SAN LUIS POTOSÍ 2025\n  \nTeatro de la Paz \n20 de Junio del 2025 \n6 y 9:30 pm \nBoletos por Showticket \nhttps://www.showticket.com.mx/eventperformances.asp?evt=1643 \nARACELI ARAMBULA\nDAVID ZEPEDA / WILLIAM LEVY
URL:https://gentesanluis.com/event/perfume-de-gardenia-san-luis-potosi-2025/
LOCATION:TEATRO DE LA PAZ\, Villerias 205\, Centro Historico\, SAN LUIS POTOSI\, SLP\, Mexico
CATEGORIES:TEATRO
ATTACH;FMTTYPE=image/png:https://gentesanluis.com/wp-content/uploads/2025/02/PERFUME-DE-GARDENIA-SAN-LUIS-POTOSI-2025.png
END:VEVENT
BEGIN:VEVENT
DTSTART;TZID=America/Mexico_City:20250620T210000
DTEND;TZID=America/Mexico_City:20250620T233000
DTSTAMP:20260424T155028
CREATED:20250404T150559Z
LAST-MODIFIED:20250404T150559Z
UID:1703-1750453200-1750462200@gentesanluis.com
SUMMARY:Mike Salazar en San Luis Potosi 2025
DESCRIPTION:Mike Salazar en San Luis Potosi 2025\n20 de Junio 9pm \nen la Cineteca Alameda \nBoletos por Arema Ticket para Mike Salazar \nPrecios (Más cargos por servicio): \nVIP: $800 \nOro: $650 \nPlata: $550 \nPlatino 1: $450 \nPlatino 2: $400
URL:https://gentesanluis.com/event/mike-salazar-en-san-luis-potosi-2025/
LOCATION:CINETECA ALAMEDA\, Avenida Universidad 575\, SAN LUIS POTOSI\, SLP\, Mexico
CATEGORIES:COMEDIA
ATTACH;FMTTYPE=image/jpeg:https://gentesanluis.com/wp-content/uploads/2025/04/Mike-Salazar-en-San-Luis-Potosi-2025.jpg
END:VEVENT
BEGIN:VEVENT
DTSTART;TZID=America/Mexico_City:20250628T190000
DTEND;TZID=America/Mexico_City:20250628T233000
DTSTAMP:20260424T155028
CREATED:20250617T151126Z
LAST-MODIFIED:20250617T151126Z
UID:1864-1751137200-1751153400@gentesanluis.com
SUMMARY:Kinky y Sussie 4 en SLP 2025
DESCRIPTION:Kinky y Sussie 4 en SLP 2025\n28 junio 2025 a las 7:00 PM  \n Teatro de la ciudad del Tangamanga 1 en SLP \nBoletos por : ticketmania
URL:https://gentesanluis.com/event/kinky-y-sussie-4-en-slp-2025/
LOCATION:TEATRO DE LA CIUDAD PARQUE TANGAMANGA 1\, Av. Salvador Nava Martínez\, Parque Tangamanga I\, SLP\, SLP\, Mexico
CATEGORIES:Concierto
ATTACH;FMTTYPE=image/jpeg:https://gentesanluis.com/wp-content/uploads/2025/06/Kinky-y-Sussie-4-en-SLP-2025.jpg
END:VEVENT
BEGIN:VEVENT
DTSTART;TZID=America/Mexico_City:20250628T210000
DTEND;TZID=America/Mexico_City:20250628T233000
DTSTAMP:20260424T155028
CREATED:20250616T031522Z
LAST-MODIFIED:20250616T031522Z
UID:1856-1751144400-1751153400@gentesanluis.com
SUMMARY:DUELO DE ACORDEONES en SLP 2025
DESCRIPTION:DUELO DE ACORDEONES en SLP 2025\nSábado\, 28 de junio de 2025 21:00 \nPALENQUE DE LA FENAPO \nBoletos por:  SMARTICKET \nLocalidades : \n\n\n\n\n\nDIAMANTE   $2\,500.00\n\n\n\n\n\n\n\nVIP  $2\,200.00\n\n\n\n\n\n\n\nDORADA  $1\,900.00\n\n\n\n\n\n\n\nPREFERENTE $1\,600.00\n\n\n\n\n\n\n\nGENERAL $500.00
URL:https://gentesanluis.com/event/duelo-de-acordeones-en-slp-2025/
LOCATION:Palenque FENAPO
CATEGORIES:Concierto
ATTACH;FMTTYPE=image/jpeg:https://gentesanluis.com/wp-content/uploads/2025/06/DUELO-DE-ACORDEONES-en-SLP-2025.jpg
END:VEVENT
END:VCALENDAR